FILENAME: O4511315.NES.1076622.tif
QUADRANGLE_NAME: FOOLHEN MOUNTAIN
QUADRANT: NE
WEST_LONGITUDE: -113 11 15.00000
EAST_LONGITUDE: -113 7 30.00000
NORTH_LATITUDE: 45 52 30.00000
SOUTH_LATITUDE: 45 48 45.00000
PRODUCTION_DATE: 2000 4 20
RASTER_ORDER: LEFT_RIGHT/TOP_BOTTOM
BAND_ORGANIZATION: SINGLE FILE
BAND_CONTENT: BLACK&WHITE
BAND_CONTENT: UNDEFINED
BAND_CONTENT: UNDEFINED
BITS_PER_PIXEL: 8
SAMPLES_AND_LINES: 5713 7685
HORIZONTAL_DATUM: NAD83
HORIZONTAL_COORDINATE_SYSTEM: UTM
COORDINATE_ZONE: 12
HORIZONTAL_UNITS: METERS
HORIZONTAL_RESOLUTION: 1.00000
SECONDARY_HORIZONTAL_DATUM: NAD27
XY_ORIGIN: 329676.00000 5082787.00000
SECONDARY_XY_ORIGIN: 329739.65100 5082575.68700
NATION: US
NATION: "SCIENCE
STATE: MT
NW_QUAD_CORNER_XY: 330236.99700 5082486.09300
NE_QUAD_CORNER_XY: 335087.30200 5082355.00300
SE_QUAD_CORNERY_XY: 334902.45000 5075411.15000
SW_QUAD_CORNER_XY: 330046.70300 5075542.24800
SECONDARY_NW_QUAD_XY: 330231.88900 5082268.27700
SECONDARY_NE_QUAD_XY: 335082.34000 5082137.18300
SECONDARY_SE_QUAD_XY: 334897.49000 5075193.37400
SECONDARY_SW_QUAD_XY: 330041.59700 5075324.47600
RMSE_XY: 2.30000
IMAGE_SOURCE: BLACK AND WHITE FILM
SOURCE_IMAGE_ID: NAPP 8393 269
SOURCE_IMAGE_DATE: 1995 08 19
SOURCE_IMAGE_ID: NAPP 8393 197
SOURCE_IMAGE_DATE: 1995 08 19
SOURCE_IMAGE_ID: NAPP 8393 270
SOURCE_IMAGE_DATE: 1995 08 19
SOURCE_IMAGE_ID: NAPP 8402 015
SOURCE_IMAGE_DATE: 1995 09 02
SOURCE_IMAGE_ID: NAPP 8402 013
SOURCE_IMAGE_DATE: 1995 09 02
SOURCE_DEM_DATE: 1955 00 00
AGENCY: WESTERN MAPPING CENTER (WMC)
PRODUCER: UNDEFINED
PRODUCTION_SYSTEM: GIS/MAGIC
COMPRESSION: UNDEFINED
STANDARD_VERSION: 1996 12
METADATA_DATE: 2000 05 25
DATA_FILE_SIZE: 43910118
BYTE_COUNT: 5713
