FILENAME: O4511316.NES.1076764.tif
QUADRANGLE_NAME: DICKIE HILLS
QUADRANT: NE
WEST_LONGITUDE: -113 3 45.00000
EAST_LONGITUDE: -113 0 0.00000
NORTH_LATITUDE: 45 52 30.00000
SOUTH_LATITUDE: 45 48 45.00000
PRODUCTION_DATE: 2000 4 4
RASTER_ORDER: LEFT_RIGHT/TOP_BOTTOM
BAND_ORGANIZATION: SINGLE FILE
BAND_CONTENT: BLACK&WHITE
BAND_CONTENT: UNDEFINED
BAND_CONTENT: UNDEFINED
BITS_PER_PIXEL: 8
SAMPLES_AND_LINES: 5701 7677
HORIZONTAL_DATUM: NAD83
HORIZONTAL_COORDINATE_SYSTEM: UTM
COORDINATE_ZONE: 12
HORIZONTAL_UNITS: METERS
HORIZONTAL_RESOLUTION: 1.00000
SECONDARY_HORIZONTAL_DATUM: NAD27
XY_ORIGIN: 339388.00000 5082528.00000
SECONDARY_XY_ORIGIN: 339451.46300 5082316.74200
NATION: US
NATION: "SCIENCE
STATE: MT
NW_QUAD_CORNER_XY: 339937.61300 5082227.71600
NE_QUAD_CORNER_XY: 344787.93000 5082104.23200
SE_QUAD_CORNERY_XY: 344613.96000 5075160.36300
SW_QUAD_CORNER_XY: 339758.20300 5075283.85500
SECONDARY_NW_QUAD_XY: 339932.79700 5082009.89300
SECONDARY_NE_QUAD_XY: 344783.26000 5081886.40500
SECONDARY_SE_QUAD_XY: 344609.29200 5074942.58000
SECONDARY_SW_QUAD_XY: 339753.38800 5075066.07600
RMSE_XY: 1.60000
IMAGE_SOURCE: BLACK AND WHITE FILM
SOURCE_IMAGE_ID: NAPP 8402 021
SOURCE_IMAGE_DATE: 1995 09 02
SOURCE_IMAGE_ID: NAPP 8402 020
SOURCE_IMAGE_DATE: 1995 09 02
SOURCE_IMAGE_ID: NAPP 8402 022
SOURCE_IMAGE_DATE: 1995 09 02
SOURCE_DEM_DATE: 1992 00 00
AGENCY: WESTERN MAPPING CENTER (WMC)
PRODUCER: UNDEFINED
PRODUCTION_SYSTEM: GIS/MAGIC
COMPRESSION: UNDEFINED
STANDARD_VERSION: 1996 12
METADATA_DATE: 2000 05 29
DATA_FILE_SIZE: 43772278
BYTE_COUNT: 5701
