FILENAME: O4511319.SWS.1076464.tif
QUADRANGLE_NAME: BIG HOLE BATTLEFIELD
QUADRANT: SW
WEST_LONGITUDE: -113 45 0.00000
EAST_LONGITUDE: -113 41 15.00000
NORTH_LATITUDE: 45 41 15.00000
SOUTH_LATITUDE: 45 37 30.00000
PRODUCTION_DATE: 2000 4 14
RASTER_ORDER: LEFT_RIGHT/TOP_BOTTOM
BAND_ORGANIZATION: SINGLE FILE
BAND_CONTENT: BLACK&WHITE
BAND_CONTENT: UNDEFINED
BAND_CONTENT: UNDEFINED
BITS_PER_PIXEL: 8
SAMPLES_AND_LINES: 5779 7718
HORIZONTAL_DATUM: NAD83
HORIZONTAL_COORDINATE_SYSTEM: UTM
COORDINATE_ZONE: 12
HORIZONTAL_UNITS: METERS
HORIZONTAL_RESOLUTION: 1.00000
SECONDARY_HORIZONTAL_DATUM: NAD27
XY_ORIGIN: 285257.00000 5063306.00000
SECONDARY_XY_ORIGIN: 285321.41200 5063094.68200
NATION: US
NATION: "SCIENCE
STATE: MT
NW_QUAD_CORNER_XY: 285867.43500 5063005.98300
NE_QUAD_CORNER_XY: 290734.00100 5062840.62300
SE_QUAD_CORNERY_XY: 290500.90600 5055897.03100
SW_QUAD_CORNER_XY: 285628.91100 5056062.39900
SECONDARY_NW_QUAD_XY: 285861.01800 5062788.34300
SECONDARY_NE_QUAD_XY: 290727.73000 5062622.97800
SECONDARY_SE_QUAD_XY: 290494.63600 5055679.43200
SECONDARY_SW_QUAD_XY: 285622.49600 5055844.80500
RMSE_XY: 2.20000
IMAGE_SOURCE: BLACK AND WHITE FILM
SOURCE_IMAGE_ID: NAPP 8389 108
SOURCE_IMAGE_DATE: 1995 07 31
SOURCE_IMAGE_ID: NAPP 8389 107
SOURCE_IMAGE_DATE: 1995 07 31
SOURCE_IMAGE_ID: NAPP 8389 109
SOURCE_IMAGE_DATE: 1995 07 31
SOURCE_DEM_DATE: 2000 01 01
AGENCY: WESTERN MAPPING CENTER (WMC)
PRODUCER: UNDEFINED
PRODUCTION_SYSTEM: GIS/MAGIC
COMPRESSION: UNDEFINED
STANDARD_VERSION: 1996 12
METADATA_DATE: 2000 05 19
DATA_FILE_SIZE: 44608101
BYTE_COUNT: 5779
