FILENAME: O4511319.SES.1076463.tif
QUADRANGLE_NAME: BIG HOLE BATTLEFIELD
QUADRANT: SE
WEST_LONGITUDE: -113 41 15.00000
EAST_LONGITUDE: -113 37 30.00000
NORTH_LATITUDE: 45 41 15.00000
SOUTH_LATITUDE: 45 37 30.00000
PRODUCTION_DATE: 2000 4 14
RASTER_ORDER: LEFT_RIGHT/TOP_BOTTOM
BAND_ORGANIZATION: SINGLE FILE
BAND_CONTENT: BLACK&WHITE
BAND_CONTENT: UNDEFINED
BAND_CONTENT: UNDEFINED
BITS_PER_PIXEL: 8
SAMPLES_AND_LINES: 5773 7714
HORIZONTAL_DATUM: NAD83
HORIZONTAL_COORDINATE_SYSTEM: UTM
COORDINATE_ZONE: 12
HORIZONTAL_UNITS: METERS
HORIZONTAL_RESOLUTION: 1.00000
SECONDARY_HORIZONTAL_DATUM: NAD27
XY_ORIGIN: 290129.00000 5063141.00000
SECONDARY_XY_ORIGIN: 290193.35200 5062929.69300
NATION: US
NATION: "SCIENCE
STATE: MT
NW_QUAD_CORNER_XY: 290734.00100 5062840.62300
NE_QUAD_CORNER_XY: 295600.57300 5062679.07000
SE_QUAD_CORNERY_XY: 295372.90600 5055735.47000
SW_QUAD_CORNER_XY: 290500.90600 5055897.03100
SECONDARY_NW_QUAD_XY: 290727.73000 5062622.97800
SECONDARY_NE_QUAD_XY: 295594.44700 5062461.41900
SECONDARY_SE_QUAD_XY: 295366.78200 5055517.86600
SECONDARY_SW_QUAD_XY: 290494.63600 5055679.43200
RMSE_XY: 2.20000
IMAGE_SOURCE: BLACK AND WHITE FILM
SOURCE_IMAGE_ID: NAPP 8393 099
SOURCE_IMAGE_DATE: 1995 08 19
SOURCE_IMAGE_ID: NAPP 8389 109
SOURCE_IMAGE_DATE: 1995 07 31
SOURCE_IMAGE_ID: NAPP 8393 098
SOURCE_IMAGE_DATE: 1995 08 19
SOURCE_DEM_DATE: 2000 01 01
AGENCY: WESTERN MAPPING CENTER (WMC)
PRODUCER: UNDEFINED
PRODUCTION_SYSTEM: GIS/MAGIC
COMPRESSION: UNDEFINED
STANDARD_VERSION: 1996 12
METADATA_DATE: 2000 05 19
DATA_FILE_SIZE: 44538695
BYTE_COUNT: 5773
