FILENAME: O4511319.NWS.1076462.tif
QUADRANGLE_NAME: BIG HOLE BATTLEFIELD
QUADRANT: NW
WEST_LONGITUDE: -113 45 0.00000
EAST_LONGITUDE: -113 41 15.00000
NORTH_LATITUDE: 45 45 0.00000
SOUTH_LATITUDE: 45 41 15.00000
PRODUCTION_DATE: 2000 4 14
RASTER_ORDER: LEFT_RIGHT/TOP_BOTTOM
BAND_ORGANIZATION: SINGLE FILE
BAND_CONTENT: BLACK&WHITE
BAND_CONTENT: UNDEFINED
BAND_CONTENT: UNDEFINED
BITS_PER_PIXEL: 8
SAMPLES_AND_LINES: 5774 7718
HORIZONTAL_DATUM: NAD83
HORIZONTAL_COORDINATE_SYSTEM: UTM
COORDINATE_ZONE: 12
HORIZONTAL_UNITS: METERS
HORIZONTAL_RESOLUTION: 1.00000
SECONDARY_HORIZONTAL_DATUM: NAD27
XY_ORIGIN: 285495.00000 5070250.00000
SECONDARY_XY_ORIGIN: 285559.39700 5070038.61600
NATION: US
NATION: "SCIENCE
STATE: MT
NW_QUAD_CORNER_XY: 286106.21500 5069949.62600
NE_QUAD_CORNER_XY: 290967.34600 5069784.27500
SE_QUAD_CORNERY_XY: 290734.00100 5062840.62300
SW_QUAD_CORNER_XY: 285867.43500 5063005.98300
SECONDARY_NW_QUAD_XY: 286099.79600 5069731.94000
SECONDARY_NE_QUAD_XY: 290961.07300 5069566.58400
SECONDARY_SE_QUAD_XY: 290727.73000 5062622.97800
SECONDARY_SW_QUAD_XY: 285861.01800 5062788.34300
RMSE_XY: 2.30000
IMAGE_SOURCE: BLACK AND WHITE FILM
SOURCE_IMAGE_ID: NAPP 8389 110
SOURCE_IMAGE_DATE: 1995 07 31
SOURCE_IMAGE_ID: NAPP 8389 111
SOURCE_IMAGE_DATE: 1995 07 31
SOURCE_DEM_DATE: 2000 01 01
AGENCY: WESTERN MAPPING CENTER (WMC)
PRODUCER: UNDEFINED
PRODUCTION_SYSTEM: GIS/MAGIC
COMPRESSION: UNDEFINED
STANDARD_VERSION: 1996 12
METADATA_DATE: 2000 05 19
DATA_FILE_SIZE: 44569506
BYTE_COUNT: 5774
