FILENAME: O4511320.SES.1076479.tif
QUADRANGLE_NAME: GIBBONS SCHOOL
QUADRANT: SE
WEST_LONGITUDE: -113 33 45.00000
EAST_LONGITUDE: -113 30 0.00000
NORTH_LATITUDE: 45 41 15.00000
SOUTH_LATITUDE: 45 37 30.00000
PRODUCTION_DATE: 2000 4 18
RASTER_ORDER: LEFT_RIGHT/TOP_BOTTOM
BAND_ORGANIZATION: SINGLE FILE
BAND_CONTENT: BLACK&WHITE
BAND_CONTENT: UNDEFINED
BAND_CONTENT: UNDEFINED
BITS_PER_PIXEL: 8
SAMPLES_AND_LINES: 5762 7707
HORIZONTAL_DATUM: NAD83
HORIZONTAL_COORDINATE_SYSTEM: UTM
COORDINATE_ZONE: 12
HORIZONTAL_UNITS: METERS
HORIZONTAL_RESOLUTION: 1.00000
SECONDARY_HORIZONTAL_DATUM: NAD27
XY_ORIGIN: 299873.00000 5062822.00000
SECONDARY_XY_ORIGIN: 299937.23000 5062610.71600
NATION: US
NATION: "SCIENCE
STATE: MT
NW_QUAD_CORNER_XY: 300467.15000 5062521.32200
NE_QUAD_CORNER_XY: 305333.73300 5062367.38100
SE_QUAD_CORNERY_XY: 305116.92100 5055423.76600
SW_QUAD_CORNER_XY: 300244.91100 5055577.71500
SECONDARY_NW_QUAD_XY: 300461.17100 5062303.66700
SECONDARY_NE_QUAD_XY: 305327.89900 5062149.72200
SECONDARY_SE_QUAD_XY: 305111.08900 5055206.15300
SECONDARY_SW_QUAD_XY: 300238.93300 5055360.10600
RMSE_XY: 1.10000
IMAGE_SOURCE: BLACK AND WHITE FILM
SOURCE_IMAGE_ID: NAPP 8391 254
SOURCE_IMAGE_DATE: 1995 08 01
SOURCE_IMAGE_ID: NAPP 8404 139
SOURCE_IMAGE_DATE: 1995 09 12
SOURCE_IMAGE_ID: NAPP 8391 252
SOURCE_IMAGE_DATE: 1995 08 01
SOURCE_DEM_DATE: 1965 00 00
AGENCY: WESTERN MAPPING CENTER (WMC)
PRODUCER: UNDEFINED
PRODUCTION_SYSTEM: GIS/MAGIC
COMPRESSION: UNDEFINED
STANDARD_VERSION: 1996 12
METADATA_DATE: 2000 05 19
DATA_FILE_SIZE: 44413496
BYTE_COUNT: 5762
