FILENAME: O4511320.NES.1076477.tif
QUADRANGLE_NAME: GIBBONS SCHOOL
QUADRANT: NE
WEST_LONGITUDE: -113 33 45.00000
EAST_LONGITUDE: -113 30 0.00000
NORTH_LATITUDE: 45 45 0.00000
SOUTH_LATITUDE: 45 41 15.00000
PRODUCTION_DATE: 2000 4 18
RASTER_ORDER: LEFT_RIGHT/TOP_BOTTOM
BAND_ORGANIZATION: SINGLE FILE
BAND_CONTENT: BLACK&WHITE
BAND_CONTENT: UNDEFINED
BAND_CONTENT: UNDEFINED
BITS_PER_PIXEL: 8
SAMPLES_AND_LINES: 5757 7707
HORIZONTAL_DATUM: NAD83
HORIZONTAL_COORDINATE_SYSTEM: UTM
COORDINATE_ZONE: 12
HORIZONTAL_UNITS: METERS
HORIZONTAL_RESOLUTION: 1.00000
SECONDARY_HORIZONTAL_DATUM: NAD27
XY_ORIGIN: 300095.00000 5069765.00000
SECONDARY_XY_ORIGIN: 300159.20200 5069553.66400
NATION: US
NATION: "SCIENCE
STATE: MT
NW_QUAD_CORNER_XY: 300689.62800 5069464.99100
NE_QUAD_CORNER_XY: 305550.77800 5069311.05800
SE_QUAD_CORNERY_XY: 305333.73300 5062367.38100
SW_QUAD_CORNER_XY: 300467.15000 5062521.32200
SECONDARY_NW_QUAD_XY: 300683.64700 5069247.29000
SECONDARY_NE_QUAD_XY: 305544.94300 5069093.35300
SECONDARY_SE_QUAD_XY: 305327.89900 5062149.72200
SECONDARY_SW_QUAD_XY: 300461.17100 5062303.66700
RMSE_XY: 1.50000
IMAGE_SOURCE: BLACK AND WHITE FILM
SOURCE_IMAGE_ID: NAPP 8391 252
SOURCE_IMAGE_DATE: 1995 08 01
SOURCE_IMAGE_ID: NAPP 8404 127
SOURCE_IMAGE_DATE: 1995 09 12
SOURCE_DEM_DATE: 1965 00 00
AGENCY: WESTERN MAPPING CENTER (WMC)
PRODUCER: UNDEFINED
PRODUCTION_SYSTEM: GIS/MAGIC
COMPRESSION: UNDEFINED
STANDARD_VERSION: 1996 12
METADATA_DATE: 2000 05 19
DATA_FILE_SIZE: 44374956
BYTE_COUNT: 5757
