FILENAME: O4511322.NES.1076580.tif
QUADRANGLE_NAME: PROPOSAL ROCK
QUADRANT: NE
WEST_LONGITUDE: -113 18 45.00000
EAST_LONGITUDE: -113 15 0.00000
NORTH_LATITUDE: 45 45 0.00000
SOUTH_LATITUDE: 45 41 15.00000
PRODUCTION_DATE: 2000 4 25
RASTER_ORDER: LEFT_RIGHT/TOP_BOTTOM
BAND_ORGANIZATION: SINGLE FILE
BAND_CONTENT: BLACK&WHITE
BAND_CONTENT: UNDEFINED
BAND_CONTENT: UNDEFINED
BITS_PER_PIXEL: 8
SAMPLES_AND_LINES: 5734 7692
HORIZONTAL_DATUM: NAD83
HORIZONTAL_COORDINATE_SYSTEM: UTM
COORDINATE_ZONE: 12
HORIZONTAL_UNITS: METERS
HORIZONTAL_RESOLUTION: 1.00000
SECONDARY_HORIZONTAL_DATUM: NAD27
XY_ORIGIN: 319563.00000 5069173.00000
SECONDARY_XY_ORIGIN: 319626.84900 5068961.72400
NATION: US
NATION: "SCIENCE
STATE: MT
NW_QUAD_CORNER_XY: 320134.26200 5068872.09000
NE_QUAD_CORNER_XY: 324995.43500 5068733.37700
SE_QUAD_CORNERY_XY: 324800.11800 5061789.67000
SW_QUAD_CORNER_XY: 319933.51400 5061928.39000
SECONDARY_NW_QUAD_XY: 320128.86500 5068654.37200
SECONDARY_NE_QUAD_XY: 324990.18400 5068515.65400
SECONDARY_SE_QUAD_XY: 324794.86800 5061571.99300
SECONDARY_SW_QUAD_XY: 319928.11800 5061710.71700
RMSE_XY: 1.60000
IMAGE_SOURCE: BLACK AND WHITE FILM
SOURCE_IMAGE_ID: NAPP 8391 148
SOURCE_IMAGE_DATE: 1995 08 01
SOURCE_IMAGE_ID: NAPP 8391 147
SOURCE_IMAGE_DATE: 1995 08 01
SOURCE_IMAGE_ID: NAPP 8391 149
SOURCE_IMAGE_DATE: 1995 08 01
SOURCE_IMAGE_ID: NAPP 8393 203
SOURCE_IMAGE_DATE: 1995 08 19
SOURCE_DEM_DATE: 1992 00 00
AGENCY: WESTERN MAPPING CENTER (WMC)
PRODUCER: UNDEFINED
PRODUCTION_SYSTEM: GIS/MAGIC
COMPRESSION: UNDEFINED
STANDARD_VERSION: 1996 12
METADATA_DATE: 2000 05 19
DATA_FILE_SIZE: 44111662
BYTE_COUNT: 5734
