FILENAME: O4511324.SWS.1076771.tif
QUADRANGLE_NAME: STINE MOUNTAIN
QUADRANT: SW
WEST_LONGITUDE: -113 7 30.00000
EAST_LONGITUDE: -113 3 45.00000
NORTH_LATITUDE: 45 41 15.00000
SOUTH_LATITUDE: 45 37 30.00000
PRODUCTION_DATE: 2000 4 4
RASTER_ORDER: LEFT_RIGHT/TOP_BOTTOM
BAND_ORGANIZATION: SINGLE FILE
BAND_CONTENT: BLACK&WHITE
BAND_CONTENT: UNDEFINED
BAND_CONTENT: UNDEFINED
BITS_PER_PIXEL: 8
SAMPLES_AND_LINES: 5722 7680
HORIZONTAL_DATUM: NAD83
HORIZONTAL_COORDINATE_SYSTEM: UTM
COORDINATE_ZONE: 12
HORIZONTAL_UNITS: METERS
HORIZONTAL_RESOLUTION: 1.00000
SECONDARY_HORIZONTAL_DATUM: NAD27
XY_ORIGIN: 333979.00000 5061824.00000
SECONDARY_XY_ORIGIN: 334042.58500 5061612.83300
NATION: US
NATION: "SCIENCE
STATE: MT
NW_QUAD_CORNER_XY: 334533.34000 5061523.64100
NE_QUAD_CORNER_XY: 339399.95700 5061396.33200
SE_QUAD_CORNERY_XY: 339221.12300 5054452.67100
SW_QUAD_CORNER_XY: 334349.08100 5054579.98500
SECONDARY_NW_QUAD_XY: 334528.38100 5061305.95600
SECONDARY_NE_QUAD_XY: 339395.14500 5061178.64300
SECONDARY_SE_QUAD_XY: 339216.31200 5054235.02800
SECONDARY_SW_QUAD_XY: 334344.12400 5054362.34700
RMSE_XY: 2.50000
IMAGE_SOURCE: BLACK AND WHITE FILM
SOURCE_IMAGE_ID: NAPP 8404 087
SOURCE_IMAGE_DATE: 1995 09 12
SOURCE_IMAGE_ID: NAPP 8393 264
SOURCE_IMAGE_DATE: 1995 08 19
SOURCE_IMAGE_ID: NAPP 8404 086
SOURCE_IMAGE_DATE: 1995 09 12
SOURCE_IMAGE_ID: NAPP 8404 088
SOURCE_IMAGE_DATE: 1995 09 12
SOURCE_DEM_DATE: 1992 00 00
AGENCY: WESTERN MAPPING CENTER (WMC)
PRODUCER: UNDEFINED
PRODUCTION_SYSTEM: GIS/MAGIC
COMPRESSION: UNDEFINED
STANDARD_VERSION: 1996 12
METADATA_DATE: 2000 05 29
DATA_FILE_SIZE: 43950682
BYTE_COUNT: 5722
