FILENAME: O4511324.NES.1076768.tif
QUADRANGLE_NAME: STINE MOUNTAIN
QUADRANT: NE
WEST_LONGITUDE: -113 3 45.00000
EAST_LONGITUDE: -113 0 0.00000
NORTH_LATITUDE: 45 45 0.00000
SOUTH_LATITUDE: 45 41 15.00000
PRODUCTION_DATE: 2000 4 4
RASTER_ORDER: LEFT_RIGHT/TOP_BOTTOM
BAND_ORGANIZATION: SINGLE FILE
BAND_CONTENT: BLACK&WHITE
BAND_CONTENT: UNDEFINED
BAND_CONTENT: UNDEFINED
BITS_PER_PIXEL: 8
SAMPLES_AND_LINES: 5712 7677
HORIZONTAL_DATUM: NAD83
HORIZONTAL_COORDINATE_SYSTEM: UTM
COORDINATE_ZONE: 12
HORIZONTAL_UNITS: METERS
HORIZONTAL_RESOLUTION: 1.00000
SECONDARY_HORIZONTAL_DATUM: NAD27
XY_ORIGIN: 339030.00000 5068641.00000
SECONDARY_XY_ORIGIN: 339093.42400 5068429.79100
NATION: US
NATION: "SCIENCE
STATE: MT
NW_QUAD_CORNER_XY: 339578.98400 5068340.06000
NE_QUAD_CORNER_XY: 344440.17700 5068216.56200
SE_QUAD_CORNERY_XY: 344266.58000 5061272.82700
SW_QUAD_CORNER_XY: 339399.95700 5061396.33200
SECONDARY_NW_QUAD_XY: 339574.17000 5068122.32600
SECONDARY_NE_QUAD_XY: 344435.50900 5067998.82300
SECONDARY_SE_QUAD_XY: 344261.91300 5061055.13500
SECONDARY_SW_QUAD_XY: 339395.14500 5061178.64300
RMSE_XY: 4.00000
IMAGE_SOURCE: BLACK AND WHITE FILM
SOURCE_IMAGE_ID: NAPP 8404 002
SOURCE_IMAGE_DATE: 1995 09 12
SOURCE_IMAGE_ID: NAPP 8404 003
SOURCE_IMAGE_DATE: 1995 09 12
SOURCE_IMAGE_ID: NAPP 8402 018
SOURCE_IMAGE_DATE: 1995 09 02
SOURCE_DEM_DATE: 1992 00 00
AGENCY: WESTERN MAPPING CENTER (WMC)
PRODUCER: UNDEFINED
PRODUCTION_SYSTEM: GIS/MAGIC
COMPRESSION: UNDEFINED
STANDARD_VERSION: 1996 12
METADATA_DATE: 2000 05 29
DATA_FILE_SIZE: 43856736
BYTE_COUNT: 5712
