FILENAME: O4511327.SES.1076467.tif
QUADRANGLE_NAME: ISAAC MEADOWS
QUADRANT: SE
WEST_LONGITUDE: -113 41 15.00000
EAST_LONGITUDE: -113 37 30.00000
NORTH_LATITUDE: 45 33 45.00000
SOUTH_LATITUDE: 45 30 0.00000
PRODUCTION_DATE: 2000 4 14
RASTER_ORDER: LEFT_RIGHT/TOP_BOTTOM
BAND_ORGANIZATION: SINGLE FILE
BAND_CONTENT: BLACK&WHITE
BAND_CONTENT: UNDEFINED
BAND_CONTENT: UNDEFINED
BITS_PER_PIXEL: 8
SAMPLES_AND_LINES: 5784 7714
HORIZONTAL_DATUM: NAD83
HORIZONTAL_COORDINATE_SYSTEM: UTM
COORDINATE_ZONE: 12
HORIZONTAL_UNITS: METERS
HORIZONTAL_RESOLUTION: 1.00000
SECONDARY_HORIZONTAL_DATUM: NAD27
XY_ORIGIN: 289663.00000 5049254.00000
SECONDARY_XY_ORIGIN: 289727.39000 5049042.81800
NATION: US
NATION: "SCIENCE
STATE: MT
NW_QUAD_CORNER_XY: 290268.06200 5048953.49900
NE_QUAD_CORNER_XY: 295145.48400 5048791.93000
SE_QUAD_CORNERY_XY: 294918.30700 5041848.45100
SW_QUAD_CORNER_XY: 290035.46800 5042010.02600
SECONDARY_NW_QUAD_XY: 290261.79300 5048735.94700
SECONDARY_NE_QUAD_XY: 295139.36200 5048574.37400
SECONDARY_SE_QUAD_XY: 294912.18600 5041630.94300
SECONDARY_SW_QUAD_XY: 290029.20100 5041792.52200
RMSE_XY: 1.00000
IMAGE_SOURCE: BLACK AND WHITE FILM
SOURCE_IMAGE_ID: NAPP 8393 095
SOURCE_IMAGE_DATE: 1995 08 19
SOURCE_DEM_DATE: 2000 01 01
AGENCY: WESTERN MAPPING CENTER (WMC)
PRODUCER: UNDEFINED
PRODUCTION_SYSTEM: GIS/MAGIC
COMPRESSION: UNDEFINED
STANDARD_VERSION: 1996 12
METADATA_DATE: 2000 05 19
DATA_FILE_SIZE: 44623560
BYTE_COUNT: 5784
