FILENAME: O4511328.SES.1076483.tif
QUADRANGLE_NAME: HIGHLAND RANCH
QUADRANT: SE
WEST_LONGITUDE: -113 33 45.00000
EAST_LONGITUDE: -113 30 0.00000
NORTH_LATITUDE: 45 33 45.00000
SOUTH_LATITUDE: 45 30 0.00000
PRODUCTION_DATE: 2000 4 17
RASTER_ORDER: LEFT_RIGHT/TOP_BOTTOM
BAND_ORGANIZATION: SINGLE FILE
BAND_CONTENT: BLACK&WHITE
BAND_CONTENT: UNDEFINED
BAND_CONTENT: UNDEFINED
BITS_PER_PIXEL: 8
SAMPLES_AND_LINES: 5773 7707
HORIZONTAL_DATUM: NAD83
HORIZONTAL_COORDINATE_SYSTEM: UTM
COORDINATE_ZONE: 12
HORIZONTAL_UNITS: METERS
HORIZONTAL_RESOLUTION: 1.00000
SECONDARY_HORIZONTAL_DATUM: NAD27
XY_ORIGIN: 299429.00000 5048935.00000
SECONDARY_XY_ORIGIN: 299493.28400 5048723.82300
NATION: US
NATION: "SCIENCE
STATE: MT
NW_QUAD_CORNER_XY: 300022.91100 5048634.16800
NE_QUAD_CORNER_XY: 304900.34300 5048480.21300
SE_QUAD_CORNERY_XY: 304683.99800 5041536.72200
SW_QUAD_CORNER_XY: 299801.15100 5041690.68300
SECONDARY_NW_QUAD_XY: 300016.93500 5048416.60700
SECONDARY_NE_QUAD_XY: 304894.51200 5048262.64700
SECONDARY_SE_QUAD_XY: 304678.16800 5041319.20400
SECONDARY_SW_QUAD_XY: 299795.17500 5041473.17000
RMSE_XY: 0.80000
IMAGE_SOURCE: BLACK AND WHITE FILM
SOURCE_IMAGE_ID: NAPP 8404 136
SOURCE_IMAGE_DATE: 1995 09 12
SOURCE_IMAGE_ID: NAPP 8404 133
SOURCE_IMAGE_DATE: 1995 09 12
SOURCE_DEM_DATE: 2000 01 01
AGENCY: WESTERN MAPPING CENTER (WMC)
PRODUCER: UNDEFINED
PRODUCTION_SYSTEM: GIS/MAGIC
COMPRESSION: UNDEFINED
STANDARD_VERSION: 1996 12
METADATA_DATE: 2000 05 19
DATA_FILE_SIZE: 44498284
BYTE_COUNT: 5773
