FILENAME: O4511328.NES.1076481.tif
QUADRANGLE_NAME: HIGHLAND RANCH
QUADRANT: NE
WEST_LONGITUDE: -113 33 45.00000
EAST_LONGITUDE: -113 30 0.00000
NORTH_LATITUDE: 45 37 30.00000
SOUTH_LATITUDE: 45 33 45.00000
PRODUCTION_DATE: 2000 4 18
RASTER_ORDER: LEFT_RIGHT/TOP_BOTTOM
BAND_ORGANIZATION: SINGLE FILE
BAND_CONTENT: BLACK&WHITE
BAND_CONTENT: UNDEFINED
BAND_CONTENT: UNDEFINED
BITS_PER_PIXEL: 8
SAMPLES_AND_LINES: 5767 7707
HORIZONTAL_DATUM: NAD83
HORIZONTAL_COORDINATE_SYSTEM: UTM
COORDINATE_ZONE: 12
HORIZONTAL_UNITS: METERS
HORIZONTAL_RESOLUTION: 1.00000
SECONDARY_HORIZONTAL_DATUM: NAD27
XY_ORIGIN: 299651.00000 5055878.00000
SECONDARY_XY_ORIGIN: 299715.25700 5055666.76900
NATION: US
NATION: "SCIENCE
STATE: MT
NW_QUAD_CORNER_XY: 300244.91100 5055577.71500
NE_QUAD_CORNER_XY: 305116.92100 5055423.76600
SE_QUAD_CORNERY_XY: 304900.34300 5048480.21300
SW_QUAD_CORNER_XY: 300022.91100 5048634.16800
SECONDARY_NW_QUAD_XY: 300238.93300 5055360.10600
SECONDARY_NE_QUAD_XY: 305111.08900 5055206.15300
SECONDARY_SE_QUAD_XY: 304894.51200 5048262.64700
SECONDARY_SW_QUAD_XY: 300016.93500 5048416.60700
RMSE_XY: 0.60000
IMAGE_SOURCE: BLACK AND WHITE FILM
SOURCE_IMAGE_ID: NAPP 8404 138
SOURCE_IMAGE_DATE: 1995 09 12
SOURCE_DEM_DATE: 2000 01 01
AGENCY: WESTERN MAPPING CENTER (WMC)
PRODUCER: UNDEFINED
PRODUCTION_SYSTEM: GIS/MAGIC
COMPRESSION: UNDEFINED
STANDARD_VERSION: 1996 12
METADATA_DATE: 2000 05 19
DATA_FILE_SIZE: 44452036
BYTE_COUNT: 5767
