FILENAME: O4511329.SWS.1076527.tif
QUADRANGLE_NAME: WISDOM
QUADRANT: SW
WEST_LONGITUDE: -113 30 0.00000
EAST_LONGITUDE: -113 26 15.00000
NORTH_LATITUDE: 45 33 45.00000
SOUTH_LATITUDE: 45 30 0.00000
PRODUCTION_DATE: 2000 4 19
RASTER_ORDER: LEFT_RIGHT/TOP_BOTTOM
BAND_ORGANIZATION: SINGLE FILE
BAND_CONTENT: BLACK&WHITE
BAND_CONTENT: UNDEFINED
BAND_CONTENT: UNDEFINED
BITS_PER_PIXEL: 8
SAMPLES_AND_LINES: 5767 7703
HORIZONTAL_DATUM: NAD83
HORIZONTAL_COORDINATE_SYSTEM: UTM
COORDINATE_ZONE: 12
HORIZONTAL_UNITS: METERS
HORIZONTAL_RESOLUTION: 1.00000
SECONDARY_HORIZONTAL_DATUM: NAD27
XY_ORIGIN: 304312.00000 5048781.00000
SECONDARY_XY_ORIGIN: 304376.23400 5048569.82100
NATION: US
NATION: "SCIENCE
STATE: MT
NW_QUAD_CORNER_XY: 304900.34300 5048480.21300
NE_QUAD_CORNER_XY: 309777.77900 5048330.06400
SE_QUAD_CORNERY_XY: 309566.84900 5041386.56700
SW_QUAD_CORNER_XY: 304683.99800 5041536.72200
SECONDARY_NW_QUAD_XY: 304894.51200 5048262.64700
SECONDARY_NE_QUAD_XY: 309772.09400 5048112.49300
SECONDARY_SE_QUAD_XY: 309561.16500 5041169.04500
SECONDARY_SW_QUAD_XY: 304678.16800 5041319.20400
RMSE_XY: 0.90000
IMAGE_SOURCE: BLACK AND WHITE FILM
SOURCE_IMAGE_ID: NAPP 8404 133
SOURCE_IMAGE_DATE: 1995 09 12
SOURCE_DEM_DATE: 1955 00 00
AGENCY: WESTERN MAPPING CENTER (WMC)
PRODUCER: UNDEFINED
PRODUCTION_SYSTEM: GIS/MAGIC
COMPRESSION: UNDEFINED
STANDARD_VERSION: 1996 12
METADATA_DATE: 2000 05 19
DATA_FILE_SIZE: 44428968
BYTE_COUNT: 5767
