FILENAME: O4511329.NES.1076524.tif
QUADRANGLE_NAME: WISDOM
QUADRANT: NE
WEST_LONGITUDE: -113 26 15.00000
EAST_LONGITUDE: -113 22 30.00000
NORTH_LATITUDE: 45 37 30.00000
SOUTH_LATITUDE: 45 33 45.00000
PRODUCTION_DATE: 2000 4 19
RASTER_ORDER: LEFT_RIGHT/TOP_BOTTOM
BAND_ORGANIZATION: SINGLE FILE
BAND_CONTENT: BLACK&WHITE
BAND_CONTENT: UNDEFINED
BAND_CONTENT: UNDEFINED
BITS_PER_PIXEL: 8
SAMPLES_AND_LINES: 5756 7699
HORIZONTAL_DATUM: NAD83
HORIZONTAL_COORDINATE_SYSTEM: UTM
COORDINATE_ZONE: 12
HORIZONTAL_UNITS: METERS
HORIZONTAL_RESOLUTION: 1.00000
SECONDARY_HORIZONTAL_DATUM: NAD27
XY_ORIGIN: 309406.00000 5055574.00000
SECONDARY_XY_ORIGIN: 309470.11500 5055362.79100
NATION: US
NATION: "SCIENCE
STATE: MT
NW_QUAD_CORNER_XY: 309988.93600 5055273.62300
NE_QUAD_CORNER_XY: 314860.95600 5055127.28600
SE_QUAD_CORNERY_XY: 314655.21900 5048183.72000
SW_QUAD_CORNER_XY: 309777.77900 5048330.06400
SECONDARY_NW_QUAD_XY: 309983.25000 5055056.00600
SECONDARY_NE_QUAD_XY: 314855.41600 5054909.66400
SECONDARY_SE_QUAD_XY: 314649.68000 5047966.14500
SECONDARY_SW_QUAD_XY: 309772.09400 5048112.49300
RMSE_XY: 1.00000
IMAGE_SOURCE: BLACK AND WHITE FILM
SOURCE_IMAGE_ID: NAPP 8391 070
SOURCE_IMAGE_DATE: 1995 08 01
SOURCE_IMAGE_ID: NAPP 8391 069
SOURCE_IMAGE_DATE: 1995 08 01
SOURCE_DEM_DATE: 1955 00 00
AGENCY: WESTERN MAPPING CENTER (WMC)
PRODUCER: UNDEFINED
PRODUCTION_SYSTEM: GIS/MAGIC
COMPRESSION: UNDEFINED
STANDARD_VERSION: 1996 12
METADATA_DATE: 2000 05 19
DATA_FILE_SIZE: 44321200
BYTE_COUNT: 5756
