FILENAME: O4511330.SWS.1076543.tif
QUADRANGLE_NAME: STEWART MOUNTAIN
QUADRANT: SW
WEST_LONGITUDE: -113 22 30.00000
EAST_LONGITUDE: -113 18 45.00000
NORTH_LATITUDE: 45 33 45.00000
SOUTH_LATITUDE: 45 30 0.00000
PRODUCTION_DATE: 2000 4 25
RASTER_ORDER: LEFT_RIGHT/TOP_BOTTOM
BAND_ORGANIZATION: SINGLE FILE
BAND_CONTENT: BLACK&WHITE
BAND_CONTENT: UNDEFINED
BAND_CONTENT: UNDEFINED
BITS_PER_PIXEL: 8
SAMPLES_AND_LINES: 5755 7695
HORIZONTAL_DATUM: NAD83
HORIZONTAL_COORDINATE_SYSTEM: UTM
COORDINATE_ZONE: 12
HORIZONTAL_UNITS: METERS
HORIZONTAL_RESOLUTION: 1.00000
SECONDARY_HORIZONTAL_DATUM: NAD27
XY_ORIGIN: 314079.00000 5048484.00000
SECONDARY_XY_ORIGIN: 314143.06700 5048272.86100
NATION: US
NATION: "SCIENCE
STATE: MT
NW_QUAD_CORNER_XY: 314655.21900 5048183.72000
NE_QUAD_CORNER_XY: 319532.66400 5048041.18200
SE_QUAD_CORNERY_XY: 319332.56200 5041097.67300
SW_QUAD_CORNER_XY: 314449.70400 5041240.21700
SECONDARY_NW_QUAD_XY: 314649.68000 5047966.14500
SECONDARY_NE_QUAD_XY: 319527.27000 5047823.60300
SECONDARY_SE_QUAD_XY: 319327.17000 5040880.14300
SECONDARY_SW_QUAD_XY: 314444.16600 5041022.69100
RMSE_XY: 2.20000
IMAGE_SOURCE: BLACK AND WHITE FILM
SOURCE_IMAGE_ID: NAPP 8391 091
SOURCE_IMAGE_DATE: 1995 08 01
SOURCE_IMAGE_ID: NAPP 8391 092
SOURCE_IMAGE_DATE: 1995 08 01
SOURCE_DEM_DATE: 1992 00 00
AGENCY: WESTERN MAPPING CENTER (WMC)
PRODUCER: UNDEFINED
PRODUCTION_SYSTEM: GIS/MAGIC
COMPRESSION: UNDEFINED
STANDARD_VERSION: 1996 12
METADATA_DATE: 2000 05 19
DATA_FILE_SIZE: 44290480
BYTE_COUNT: 5755
