FILENAME: O4511330.SES.1076542.tif
QUADRANGLE_NAME: STEWART MOUNTAIN
QUADRANT: SE
WEST_LONGITUDE: -113 18 45.00000
EAST_LONGITUDE: -113 15 0.00000
NORTH_LATITUDE: 45 33 45.00000
SOUTH_LATITUDE: 45 30 0.00000
PRODUCTION_DATE: 2000 4 25
RASTER_ORDER: LEFT_RIGHT/TOP_BOTTOM
BAND_ORGANIZATION: SINGLE FILE
BAND_CONTENT: BLACK&WHITE
BAND_CONTENT: UNDEFINED
BAND_CONTENT: UNDEFINED
BITS_PER_PIXEL: 8
SAMPLES_AND_LINES: 5750 7692
HORIZONTAL_DATUM: NAD83
HORIZONTAL_COORDINATE_SYSTEM: UTM
COORDINATE_ZONE: 12
HORIZONTAL_UNITS: METERS
HORIZONTAL_RESOLUTION: 1.00000
SECONDARY_HORIZONTAL_DATUM: NAD27
XY_ORIGIN: 318962.00000 5048342.00000
SECONDARY_XY_ORIGIN: 319025.98300 5048130.88100
NATION: US
NATION: "SCIENCE
STATE: MT
NW_QUAD_CORNER_XY: 319532.66400 5048041.18200
NE_QUAD_CORNER_XY: 324410.11200 5047902.44800
SE_QUAD_CORNERY_XY: 324215.42500 5040958.93500
SW_QUAD_CORNER_XY: 319332.56200 5041097.67300
SECONDARY_NW_QUAD_XY: 319527.27000 5047823.60300
SECONDARY_NE_QUAD_XY: 324404.86500 5047684.86500
SECONDARY_SE_QUAD_XY: 324210.17800 5040741.40000
SECONDARY_SW_QUAD_XY: 319327.17000 5040880.14300
RMSE_XY: 1.90000
IMAGE_SOURCE: BLACK AND WHITE FILM
SOURCE_IMAGE_ID: NAPP 8391 142
SOURCE_IMAGE_DATE: 1995 08 01
SOURCE_IMAGE_ID: NAPP 8393 209
SOURCE_IMAGE_DATE: 1995 08 19
SOURCE_DEM_DATE: 1992 00 00
AGENCY: WESTERN MAPPING CENTER (WMC)
PRODUCER: UNDEFINED
PRODUCTION_SYSTEM: GIS/MAGIC
COMPRESSION: UNDEFINED
STANDARD_VERSION: 1996 12
METADATA_DATE: 2000 05 19
DATA_FILE_SIZE: 44234750
BYTE_COUNT: 5750
