FILENAME: O4511330.NWS.1076541.tif
QUADRANGLE_NAME: STEWART MOUNTAIN
QUADRANT: NW
WEST_LONGITUDE: -113 22 30.00000
EAST_LONGITUDE: -113 18 45.00000
NORTH_LATITUDE: 45 37 30.00000
SOUTH_LATITUDE: 45 33 45.00000
PRODUCTION_DATE: 2000 4 25
RASTER_ORDER: LEFT_RIGHT/TOP_BOTTOM
BAND_ORGANIZATION: SINGLE FILE
BAND_CONTENT: BLACK&WHITE
BAND_CONTENT: UNDEFINED
BAND_CONTENT: UNDEFINED
BITS_PER_PIXEL: 8
SAMPLES_AND_LINES: 5750 7696
HORIZONTAL_DATUM: NAD83
HORIZONTAL_COORDINATE_SYSTEM: UTM
COORDINATE_ZONE: 12
HORIZONTAL_UNITS: METERS
HORIZONTAL_RESOLUTION: 1.00000
SECONDARY_HORIZONTAL_DATUM: NAD27
XY_ORIGIN: 314284.00000 5055428.00000
SECONDARY_XY_ORIGIN: 314348.02700 5055216.81000
NATION: US
NATION: "SCIENCE
STATE: MT
NW_QUAD_CORNER_XY: 314860.95600 5055127.28600
NE_QUAD_CORNER_XY: 319732.98100 5054984.75400
SE_QUAD_CORNERY_XY: 319532.66400 5048041.18200
SW_QUAD_CORNER_XY: 314655.21900 5048183.72000
SECONDARY_NW_QUAD_XY: 314855.41600 5054909.66400
SECONDARY_NE_QUAD_XY: 319727.58600 5054767.12800
SECONDARY_SE_QUAD_XY: 319527.27000 5047823.60300
SECONDARY_SW_QUAD_XY: 314649.68000 5047966.14500
RMSE_XY: 1.90000
IMAGE_SOURCE: BLACK AND WHITE FILM
SOURCE_IMAGE_ID: NAPP 8391 089
SOURCE_IMAGE_DATE: 1995 08 01
SOURCE_DEM_DATE: 1992 00 00
AGENCY: WESTERN MAPPING CENTER (WMC)
PRODUCER: UNDEFINED
PRODUCTION_SYSTEM: GIS/MAGIC
COMPRESSION: UNDEFINED
STANDARD_VERSION: 1996 12
METADATA_DATE: 2000 05 19
DATA_FILE_SIZE: 44257750
BYTE_COUNT: 5750
