FILENAME: O4511331.NWS.1076880.tif
QUADRANGLE_NAME: ODELL LAKE
QUADRANT: NW
WEST_LONGITUDE: -113 15 0.00000
EAST_LONGITUDE: -113 11 15.00000
NORTH_LATITUDE: 45 37 30.00000
SOUTH_LATITUDE: 45 33 45.00000
PRODUCTION_DATE: 2000 4 19
RASTER_ORDER: LEFT_RIGHT/TOP_BOTTOM
BAND_ORGANIZATION: SINGLE FILE
BAND_CONTENT: BLACK&WHITE
BAND_CONTENT: UNDEFINED
BAND_CONTENT: UNDEFINED
BITS_PER_PIXEL: 8
SAMPLES_AND_LINES: 5740 7689
HORIZONTAL_DATUM: NAD83
HORIZONTAL_COORDINATE_SYSTEM: UTM
COORDINATE_ZONE: 12
HORIZONTAL_UNITS: METERS
HORIZONTAL_RESOLUTION: 1.00000
SECONDARY_HORIZONTAL_DATUM: NAD27
XY_ORIGIN: 324039.00000 5055147.00000
SECONDARY_XY_ORIGIN: 324102.85400 5054935.84500
NATION: US
NATION: "SCIENCE
STATE: MT
NW_QUAD_CORNER_XY: 324605.01000 5054846.02700
NE_QUAD_CORNER_XY: 329477.04300 5054711.10400
SE_QUAD_CORNERY_XY: 329287.56500 5047767.52000
SW_QUAD_CORNER_XY: 324410.11200 5047902.44800
SECONDARY_NW_QUAD_XY: 324599.76100 5054628.39600
SECONDARY_NE_QUAD_XY: 329471.94000 5054493.46900
SECONDARY_SE_QUAD_XY: 329282.46300 5047549.93300
SECONDARY_SW_QUAD_XY: 324404.86500 5047684.86500
RMSE_XY: 2.30000
IMAGE_SOURCE: BLACK AND WHITE FILM
SOURCE_IMAGE_ID: NAPP 8393 206
SOURCE_IMAGE_DATE: 1995 08 19
SOURCE_IMAGE_ID: NAPP 8393 207
SOURCE_IMAGE_DATE: 1995 08 19
SOURCE_IMAGE_ID: NAPP 8393 205
SOURCE_IMAGE_DATE: 1995 08 19
SOURCE_IMAGE_ID: NAPP 8393 262
SOURCE_IMAGE_DATE: 1995 08 19
SOURCE_DEM_DATE: 1992 00 00
AGENCY: WESTERN MAPPING CENTER (WMC)
PRODUCER: UNDEFINED
PRODUCTION_SYSTEM: GIS/MAGIC
COMPRESSION: UNDEFINED
STANDARD_VERSION: 1996 12
METADATA_DATE: 2000 05 29
DATA_FILE_SIZE: 44140600
BYTE_COUNT: 5740
