FILENAME: O4511332.NES.1076902.tif
QUADRANGLE_NAME: MAURICE MOUNTAIN
QUADRANT: NE
WEST_LONGITUDE: -113 3 45.00000
EAST_LONGITUDE: -113 0 0.00000
NORTH_LATITUDE: 45 37 30.00000
SOUTH_LATITUDE: 45 33 45.00000
PRODUCTION_DATE: 2000 4 19
RASTER_ORDER: LEFT_RIGHT/TOP_BOTTOM
BAND_ORGANIZATION: SINGLE FILE
BAND_CONTENT: BLACK&WHITE
BAND_CONTENT: UNDEFINED
BAND_CONTENT: UNDEFINED
BITS_PER_PIXEL: 8
SAMPLES_AND_LINES: 5722 7677
HORIZONTAL_DATUM: NAD83
HORIZONTAL_COORDINATE_SYSTEM: UTM
COORDINATE_ZONE: 12
HORIZONTAL_UNITS: METERS
HORIZONTAL_RESOLUTION: 1.00000
SECONDARY_HORIZONTAL_DATUM: NAD27
XY_ORIGIN: 338673.00000 5054753.00000
SECONDARY_XY_ORIGIN: 338736.52500 5054541.91700
NATION: US
NATION: "SCIENCE
STATE: MT
NW_QUAD_CORNER_XY: 339221.12300 5054452.67100
NE_QUAD_CORNER_XY: 344093.16900 5054329.15900
SE_QUAD_CORNERY_XY: 343919.94500 5047385.55900
SW_QUAD_CORNER_XY: 339042.48100 5047509.07500
SECONDARY_NW_QUAD_XY: 339216.31200 5054235.02800
SECONDARY_NE_QUAD_XY: 344088.50300 5054111.51400
SECONDARY_SE_QUAD_XY: 343915.28000 5047167.96000
SECONDARY_SW_QUAD_XY: 339037.67100 5047291.48100
RMSE_XY: 1.40000
IMAGE_SOURCE: BLACK AND WHITE FILM
SOURCE_IMAGE_ID: NAPP 8404 006
SOURCE_IMAGE_DATE: 1995 09 12
SOURCE_IMAGE_ID: NAPP 8404 007
SOURCE_IMAGE_DATE: 1995 09 12
SOURCE_IMAGE_ID: NAPP 8404 005
SOURCE_IMAGE_DATE: 1995 09 12
SOURCE_IMAGE_ID: NAPP 9485 126
SOURCE_IMAGE_DATE: 1995 08 20
SOURCE_IMAGE_ID: NAPP 9485 124
SOURCE_IMAGE_DATE: 1995 08 20
SOURCE_DEM_DATE: 1997 00 00
AGENCY: WESTERN MAPPING CENTER (WMC)
PRODUCER: UNDEFINED
PRODUCTION_SYSTEM: GIS/MAGIC
COMPRESSION: UNDEFINED
STANDARD_VERSION: 1996 12
METADATA_DATE: 2000 05 29
DATA_FILE_SIZE: 43933516
BYTE_COUNT: 5722
