FILENAME: O4511335.NWS.1076470.tif
QUADRANGLE_NAME: JUMBO MOUNTAIN
QUADRANT: NW
WEST_LONGITUDE: -113 45 0.00000
EAST_LONGITUDE: -113 41 15.00000
NORTH_LATITUDE: 45 30 0.00000
SOUTH_LATITUDE: 45 26 15.00000
PRODUCTION_DATE: 2000 4 14
RASTER_ORDER: LEFT_RIGHT/TOP_BOTTOM
BAND_ORGANIZATION: SINGLE FILE
BAND_CONTENT: BLACK&WHITE
BAND_CONTENT: UNDEFINED
BAND_CONTENT: UNDEFINED
BITS_PER_PIXEL: 8
SAMPLES_AND_LINES: 5794 7718
HORIZONTAL_DATUM: NAD83
HORIZONTAL_COORDINATE_SYSTEM: UTM
COORDINATE_ZONE: 12
HORIZONTAL_UNITS: METERS
HORIZONTAL_RESOLUTION: 1.00000
SECONDARY_HORIZONTAL_DATUM: NAD27
XY_ORIGIN: 284543.00000 5042476.00000
SECONDARY_XY_ORIGIN: 284607.45700 5042264.88400
NATION: US
NATION: "SCIENCE
STATE: MT
NW_QUAD_CORNER_XY: 285152.63300 5042175.40800
NE_QUAD_CORNER_XY: 290035.46800 5042010.02600
SE_QUAD_CORNERY_XY: 289803.12600 5035066.61200
SW_QUAD_CORNER_XY: 284914.88000 5035232.00000
SECONDARY_NW_QUAD_XY: 285146.22100 5041957.90900
SECONDARY_NE_QUAD_XY: 290029.20100 5041792.52200
SECONDARY_SE_QUAD_XY: 289796.86100 5034849.15800
SECONDARY_SW_QUAD_XY: 284908.46900 5035014.55100
RMSE_XY: 2.10000
IMAGE_SOURCE: BLACK AND WHITE FILM
SOURCE_IMAGE_ID: NAPP 8393 069
SOURCE_IMAGE_DATE: 1995 08 19
SOURCE_IMAGE_ID: NAPP 8389 201
SOURCE_IMAGE_DATE: 1995 07 31
SOURCE_IMAGE_ID: NAPP 8389 200
SOURCE_IMAGE_DATE: 1995 07 31
SOURCE_IMAGE_ID: NAPP 8389 199
SOURCE_IMAGE_DATE: 1995 07 31
SOURCE_IMAGE_ID: NAPP 8393 067
SOURCE_IMAGE_DATE: 1995 08 19
SOURCE_DEM_DATE: 1965 00 00
AGENCY: WESTERN MAPPING CENTER (WMC)
PRODUCER: UNDEFINED
PRODUCTION_SYSTEM: GIS/MAGIC
COMPRESSION: UNDEFINED
STANDARD_VERSION: 1996 12
METADATA_DATE: 2000 05 19
DATA_FILE_SIZE: 44723886
BYTE_COUNT: 5794
