FILENAME: O4511336.SWS.1076755.tif
QUADRANGLE_NAME: AJAX RANCH
QUADRANT: SW
WEST_LONGITUDE: -113 37 30.00000
EAST_LONGITUDE: -113 33 45.00000
NORTH_LATITUDE: 45 26 15.00000
SOUTH_LATITUDE: 45 22 30.00000
PRODUCTION_DATE: 2000 4 17
RASTER_ORDER: LEFT_RIGHT/TOP_BOTTOM
BAND_ORGANIZATION: SINGLE FILE
BAND_CONTENT: BLACK&WHITE
BAND_CONTENT: UNDEFINED
BAND_CONTENT: UNDEFINED
BITS_PER_PIXEL: 8
SAMPLES_AND_LINES: 5788 7711
HORIZONTAL_DATUM: NAD83
HORIZONTAL_COORDINATE_SYSTEM: UTM
COORDINATE_ZONE: 12
HORIZONTAL_UNITS: METERS
HORIZONTAL_RESOLUTION: 1.00000
SECONDARY_HORIZONTAL_DATUM: NAD27
XY_ORIGIN: 294093.00000 5035206.00000
SECONDARY_XY_ORIGIN: 294157.34300 5034994.91100
NATION: US
NATION: "SCIENCE
STATE: MT
NW_QUAD_CORNER_XY: 294691.37600 5034905.03200
NE_QUAD_CORNER_XY: 299579.62900 5034747.25900
SE_QUAD_CORNERY_XY: 299358.34800 5027803.89600
SW_QUAD_CORNER_XY: 294464.69000 5027961.67400
SECONDARY_NW_QUAD_XY: 294685.25700 5034687.57300
SECONDARY_NE_QUAD_XY: 299573.65600 5034529.79500
SECONDARY_SE_QUAD_XY: 299352.37600 5027586.48200
SECONDARY_SW_QUAD_XY: 294458.57200 5027744.26400
RMSE_XY: 3.00000
IMAGE_SOURCE: BLACK AND WHITE FILM
SOURCE_IMAGE_ID: NAPP 8389 213
SOURCE_IMAGE_DATE: 1995 07 31
SOURCE_DEM_DATE: 1965 00 00
AGENCY: WESTERN MAPPING CENTER (WMC)
PRODUCER: UNDEFINED
PRODUCTION_SYSTEM: GIS/MAGIC
COMPRESSION: UNDEFINED
STANDARD_VERSION: 1996 12
METADATA_DATE: 2000 05 19
DATA_FILE_SIZE: 44637056
BYTE_COUNT: 5788
