FILENAME: O4511337.SWS.1076507.tif
QUADRANGLE_NAME: FOX GULCH
QUADRANT: SW
WEST_LONGITUDE: -113 30 0.00000
EAST_LONGITUDE: -113 26 15.00000
NORTH_LATITUDE: 45 26 15.00000
SOUTH_LATITUDE: 45 22 30.00000
PRODUCTION_DATE: 2000 4 19
RASTER_ORDER: LEFT_RIGHT/TOP_BOTTOM
BAND_ORGANIZATION: SINGLE FILE
BAND_CONTENT: BLACK&WHITE
BAND_CONTENT: UNDEFINED
BAND_CONTENT: UNDEFINED
BITS_PER_PIXEL: 8
SAMPLES_AND_LINES: 5778 7703
HORIZONTAL_DATUM: NAD83
HORIZONTAL_COORDINATE_SYSTEM: UTM
COORDINATE_ZONE: 12
HORIZONTAL_UNITS: METERS
HORIZONTAL_RESOLUTION: 1.00000
SECONDARY_HORIZONTAL_DATUM: NAD27
XY_ORIGIN: 303880.00000 5034894.00000
SECONDARY_XY_ORIGIN: 303944.26900 5034682.89100
NATION: US
NATION: "SCIENCE
STATE: MT
NW_QUAD_CORNER_XY: 304467.88600 5034593.29200
NE_QUAD_CORNER_XY: 309356.14700 5034443.13200
SE_QUAD_CORNERY_XY: 309145.67300 5027499.76000
SW_QUAD_CORNER_XY: 304252.00900 5027649.92500
SECONDARY_NW_QUAD_XY: 304462.05900 5034375.82400
SECONDARY_NE_QUAD_XY: 309350.46500 5034225.65900
SECONDARY_SE_QUAD_XY: 309139.99200 5027282.33700
SECONDARY_SW_QUAD_XY: 304246.18300 5027432.50600
RMSE_XY: 1.00000
IMAGE_SOURCE: BLACK AND WHITE FILM
SOURCE_IMAGE_ID: NAPP 8391 021
SOURCE_IMAGE_DATE: 1995 08 01
SOURCE_DEM_DATE: 2000 01 01
AGENCY: WESTERN MAPPING CENTER (WMC)
PRODUCER: UNDEFINED
PRODUCTION_SYSTEM: GIS/MAGIC
COMPRESSION: UNDEFINED
STANDARD_VERSION: 1996 12
METADATA_DATE: 2000 05 19
DATA_FILE_SIZE: 44513712
BYTE_COUNT: 5778
