FILENAME: O4511337.SES.1076506.tif
QUADRANGLE_NAME: FOX GULCH
QUADRANT: SE
WEST_LONGITUDE: -113 26 15.00000
EAST_LONGITUDE: -113 22 30.00000
NORTH_LATITUDE: 45 26 15.00000
SOUTH_LATITUDE: 45 22 30.00000
PRODUCTION_DATE: 2000 4 19
RASTER_ORDER: LEFT_RIGHT/TOP_BOTTOM
BAND_ORGANIZATION: SINGLE FILE
BAND_CONTENT: BLACK&WHITE
BAND_CONTENT: UNDEFINED
BAND_CONTENT: UNDEFINED
BITS_PER_PIXEL: 8
SAMPLES_AND_LINES: 5772 7700
HORIZONTAL_DATUM: NAD83
HORIZONTAL_COORDINATE_SYSTEM: UTM
COORDINATE_ZONE: 12
HORIZONTAL_UNITS: METERS
HORIZONTAL_RESOLUTION: 1.00000
SECONDARY_HORIZONTAL_DATUM: NAD27
XY_ORIGIN: 308774.00000 5034744.00000
SECONDARY_XY_ORIGIN: 308838.20200 5034532.92000
NATION: US
NATION: "SCIENCE
STATE: MT
NW_QUAD_CORNER_XY: 309356.14700 5034443.13200
NE_QUAD_CORNER_XY: 314244.41000 5034296.77800
SE_QUAD_CORNERY_XY: 314039.33900 5027353.40100
SW_QUAD_CORNER_XY: 309145.67300 5027499.76000
SECONDARY_NW_QUAD_XY: 309350.46500 5034225.65900
SECONDARY_NE_QUAD_XY: 314238.87400 5034079.30000
SECONDARY_SE_QUAD_XY: 314033.80500 5027135.97400
SECONDARY_SW_QUAD_XY: 309139.99200 5027282.33700
RMSE_XY: 1.50000
IMAGE_SOURCE: BLACK AND WHITE FILM
SOURCE_IMAGE_ID: NAPP 8391 064
SOURCE_IMAGE_DATE: 1995 08 01
SOURCE_DEM_DATE: 2000 01 01
AGENCY: WESTERN MAPPING CENTER (WMC)
PRODUCER: UNDEFINED
PRODUCTION_SYSTEM: GIS/MAGIC
COMPRESSION: UNDEFINED
STANDARD_VERSION: 1996 12
METADATA_DATE: 2000 05 19
DATA_FILE_SIZE: 44450172
BYTE_COUNT: 5772
