FILENAME: O4511338.SWS.1076547.tif
QUADRANGLE_NAME: JACKSON HILL
QUADRANT: SW
WEST_LONGITUDE: -113 22 30.00000
EAST_LONGITUDE: -113 18 45.00000
NORTH_LATITUDE: 45 26 15.00000
SOUTH_LATITUDE: 45 22 30.00000
PRODUCTION_DATE: 2000 4 25
RASTER_ORDER: LEFT_RIGHT/TOP_BOTTOM
BAND_ORGANIZATION: SINGLE FILE
BAND_CONTENT: BLACK&WHITE
BAND_CONTENT: UNDEFINED
BAND_CONTENT: UNDEFINED
BITS_PER_PIXEL: 8
SAMPLES_AND_LINES: 5766 7695
HORIZONTAL_DATUM: NAD83
HORIZONTAL_COORDINATE_SYSTEM: UTM
COORDINATE_ZONE: 12
HORIZONTAL_UNITS: METERS
HORIZONTAL_RESOLUTION: 1.00000
SECONDARY_HORIZONTAL_DATUM: NAD27
XY_ORIGIN: 313668.00000 5034597.00000
SECONDARY_XY_ORIGIN: 313732.13600 5034385.94900
NATION: US
NATION: "SCIENCE
STATE: MT
NW_QUAD_CORNER_XY: 314244.41000 5034296.77800
NE_QUAD_CORNER_XY: 319132.67700 5034154.22900
SE_QUAD_CORNERY_XY: 318933.00900 5027210.84800
SW_QUAD_CORNER_XY: 314039.33900 5027353.40100
SECONDARY_NW_QUAD_XY: 314238.87400 5034079.30000
SECONDARY_NE_QUAD_XY: 319127.28700 5033936.74700
SECONDARY_SE_QUAD_XY: 318927.62000 5026993.41700
SECONDARY_SW_QUAD_XY: 314033.80500 5027135.97400
RMSE_XY: 1.90000
IMAGE_SOURCE: BLACK AND WHITE FILM
SOURCE_IMAGE_ID: NAPP 8391 095
SOURCE_IMAGE_DATE: 1995 08 01
SOURCE_IMAGE_ID: NAPP 8391 096
SOURCE_IMAGE_DATE: 1995 08 01
SOURCE_DEM_DATE: 1992 00 00
AGENCY: WESTERN MAPPING CENTER (WMC)
PRODUCER: UNDEFINED
PRODUCTION_SYSTEM: GIS/MAGIC
COMPRESSION: UNDEFINED
STANDARD_VERSION: 1996 12
METADATA_DATE: 2000 05 19
DATA_FILE_SIZE: 44375136
BYTE_COUNT: 5766
