FILENAME: O4511338.NWS.1076545.tif
QUADRANGLE_NAME: JACKSON HILL
QUADRANT: NW
WEST_LONGITUDE: -113 22 30.00000
EAST_LONGITUDE: -113 18 45.00000
NORTH_LATITUDE: 45 30 0.00000
SOUTH_LATITUDE: 45 26 15.00000
PRODUCTION_DATE: 2000 4 25
RASTER_ORDER: LEFT_RIGHT/TOP_BOTTOM
BAND_ORGANIZATION: SINGLE FILE
BAND_CONTENT: BLACK&WHITE
BAND_CONTENT: UNDEFINED
BAND_CONTENT: UNDEFINED
BITS_PER_PIXEL: 8
SAMPLES_AND_LINES: 5761 7696
HORIZONTAL_DATUM: NAD83
HORIZONTAL_COORDINATE_SYSTEM: UTM
COORDINATE_ZONE: 12
HORIZONTAL_UNITS: METERS
HORIZONTAL_RESOLUTION: 1.00000
SECONDARY_HORIZONTAL_DATUM: NAD27
XY_ORIGIN: 313873.00000 5041541.00000
SECONDARY_XY_ORIGIN: 313937.10400 5041329.91300
NATION: US
NATION: "SCIENCE
STATE: MT
NW_QUAD_CORNER_XY: 314449.70400 5041240.21700
NE_QUAD_CORNER_XY: 319332.56200 5041097.67300
SE_QUAD_CORNERY_XY: 319132.67700 5034154.22900
SW_QUAD_CORNER_XY: 314244.41000 5034296.77800
SECONDARY_NW_QUAD_XY: 314444.16600 5041022.69100
SECONDARY_NE_QUAD_XY: 319327.17000 5040880.14300
SECONDARY_SE_QUAD_XY: 319127.28700 5033936.74700
SECONDARY_SW_QUAD_XY: 314238.87400 5034079.30000
RMSE_XY: 3.80000
IMAGE_SOURCE: BLACK AND WHITE FILM
SOURCE_IMAGE_ID: NAPP 8391 093
SOURCE_IMAGE_DATE: 1995 08 01
SOURCE_IMAGE_ID: NAPP 8391 092
SOURCE_IMAGE_DATE: 1995 08 01
SOURCE_DEM_DATE: 1992 00 00
AGENCY: WESTERN MAPPING CENTER (WMC)
PRODUCER: UNDEFINED
PRODUCTION_SYSTEM: GIS/MAGIC
COMPRESSION: UNDEFINED
STANDARD_VERSION: 1996 12
METADATA_DATE: 2000 05 19
DATA_FILE_SIZE: 44342417
BYTE_COUNT: 5761
