FILENAME: O4511338.NES.1076544.tif
QUADRANGLE_NAME: JACKSON HILL
QUADRANT: NE
WEST_LONGITUDE: -113 18 45.00000
EAST_LONGITUDE: -113 15 0.00000
NORTH_LATITUDE: 45 30 0.00000
SOUTH_LATITUDE: 45 26 15.00000
PRODUCTION_DATE: 2000 4 25
RASTER_ORDER: LEFT_RIGHT/TOP_BOTTOM
BAND_ORGANIZATION: SINGLE FILE
BAND_CONTENT: BLACK&WHITE
BAND_CONTENT: UNDEFINED
BAND_CONTENT: UNDEFINED
BITS_PER_PIXEL: 8
SAMPLES_AND_LINES: 5755 7692
HORIZONTAL_DATUM: NAD83
HORIZONTAL_COORDINATE_SYSTEM: UTM
COORDINATE_ZONE: 12
HORIZONTAL_UNITS: METERS
HORIZONTAL_RESOLUTION: 1.00000
SECONDARY_HORIZONTAL_DATUM: NAD27
XY_ORIGIN: 318762.00000 5041398.00000
SECONDARY_XY_ORIGIN: 318826.02500 5041186.93400
NATION: US
NATION: "SCIENCE
STATE: MT
NW_QUAD_CORNER_XY: 319332.56200 5041097.67300
NE_QUAD_CORNER_XY: 324215.42500 5040958.93500
SE_QUAD_CORNERY_XY: 324020.94700 5034015.48600
SW_QUAD_CORNER_XY: 319132.67700 5034154.22900
SECONDARY_NW_QUAD_XY: 319327.17000 5040880.14300
SECONDARY_NE_QUAD_XY: 324210.17800 5040741.40000
SECONDARY_SE_QUAD_XY: 324015.70300 5033798.00000
SECONDARY_SW_QUAD_XY: 319127.28700 5033936.74700
RMSE_XY: 2.50000
IMAGE_SOURCE: BLACK AND WHITE FILM
SOURCE_IMAGE_ID: NAPP 8391 140
SOURCE_IMAGE_DATE: 1995 08 01
SOURCE_DEM_DATE: 1992 00 00
AGENCY: WESTERN MAPPING CENTER (WMC)
PRODUCER: UNDEFINED
PRODUCTION_SYSTEM: GIS/MAGIC
COMPRESSION: UNDEFINED
STANDARD_VERSION: 1996 12
METADATA_DATE: 2000 05 19
DATA_FILE_SIZE: 44273215
BYTE_COUNT: 5755
