FILENAME: O4511339.NWS.1076589.tif
QUADRANGLE_NAME: MAVERICK MOUNTAIN
QUADRANT: NW
WEST_LONGITUDE: -113 15 0.00000
EAST_LONGITUDE: -113 11 15.00000
NORTH_LATITUDE: 45 30 0.00000
SOUTH_LATITUDE: 45 26 15.00000
PRODUCTION_DATE: 2000 5 3
RASTER_ORDER: LEFT_RIGHT/TOP_BOTTOM
BAND_ORGANIZATION: SINGLE FILE
BAND_CONTENT: BLACK&WHITE
BAND_CONTENT: UNDEFINED
BAND_CONTENT: UNDEFINED
BITS_PER_PIXEL: 8
SAMPLES_AND_LINES: 5750 7688
HORIZONTAL_DATUM: NAD83
HORIZONTAL_COORDINATE_SYSTEM: UTM
COORDINATE_ZONE: 12
HORIZONTAL_UNITS: METERS
HORIZONTAL_RESOLUTION: 1.00000
SECONDARY_HORIZONTAL_DATUM: NAD27
XY_ORIGIN: 323650.00000 5041259.00000
SECONDARY_XY_ORIGIN: 323713.95000 5041047.95100
NATION: US
NATION: "SCIENCE
STATE: MT
NW_QUAD_CORNER_XY: 324215.42500 5040958.93500
NE_QUAD_CORNER_XY: 329098.29000 5040824.00100
SE_QUAD_CORNERY_XY: 328909.22000 5033880.54700
SW_QUAD_CORNER_XY: 324020.94700 5034015.48600
SECONDARY_NW_QUAD_XY: 324210.17800 5040741.40000
SECONDARY_NE_QUAD_XY: 329093.19000 5040606.46200
SECONDARY_SE_QUAD_XY: 328904.12100 5033663.05800
SECONDARY_SW_QUAD_XY: 324015.70300 5033798.00000
RMSE_XY: 1.90000
IMAGE_SOURCE: BLACK AND WHITE FILM
SOURCE_IMAGE_ID: NAPP 8393 210
SOURCE_IMAGE_DATE: 1995 08 19
SOURCE_IMAGE_ID: NAPP 8393 211
SOURCE_IMAGE_DATE: 1995 08 19
SOURCE_DEM_DATE: 1997 00 00
AGENCY: WESTERN MAPPING CENTER (WMC)
PRODUCER: UNDEFINED
PRODUCTION_SYSTEM: GIS/MAGIC
COMPRESSION: UNDEFINED
STANDARD_VERSION: 1996 12
METADATA_DATE: 2000 05 25
DATA_FILE_SIZE: 44211750
BYTE_COUNT: 5750
