FILENAME: O4511339.NES.1076588.tif
QUADRANGLE_NAME: MAVERICK MOUNTAIN
QUADRANT: NE
WEST_LONGITUDE: -113 11 15.00000
EAST_LONGITUDE: -113 7 30.00000
NORTH_LATITUDE: 45 30 0.00000
SOUTH_LATITUDE: 45 26 15.00000
PRODUCTION_DATE: 2000 5 3
RASTER_ORDER: LEFT_RIGHT/TOP_BOTTOM
BAND_ORGANIZATION: SINGLE FILE
BAND_CONTENT: BLACK&WHITE
BAND_CONTENT: UNDEFINED
BAND_CONTENT: UNDEFINED
BITS_PER_PIXEL: 8
SAMPLES_AND_LINES: 5744 7685
HORIZONTAL_DATUM: NAD83
HORIZONTAL_COORDINATE_SYSTEM: UTM
COORDINATE_ZONE: 12
HORIZONTAL_UNITS: METERS
HORIZONTAL_RESOLUTION: 1.00000
SECONDARY_HORIZONTAL_DATUM: NAD27
XY_ORIGIN: 328539.00000 5041125.00000
SECONDARY_XY_ORIGIN: 328602.84000 5040913.98100
NATION: US
NATION: "SCIENCE
STATE: MT
NW_QUAD_CORNER_XY: 329098.29000 5040824.00100
NE_QUAD_CORNER_XY: 333981.15900 5040692.87200
SE_QUAD_CORNERY_XY: 333797.49600 5033749.41400
SW_QUAD_CORNER_XY: 328909.22000 5033880.54700
SECONDARY_NW_QUAD_XY: 329093.19000 5040606.46200
SECONDARY_NE_QUAD_XY: 333976.20500 5040475.32900
SECONDARY_SE_QUAD_XY: 333792.54300 5033531.92000
SECONDARY_SW_QUAD_XY: 328904.12100 5033663.05800
RMSE_XY: 2.30000
IMAGE_SOURCE: BLACK AND WHITE FILM
SOURCE_IMAGE_ID: NAPP 8393 257
SOURCE_IMAGE_DATE: 1995 08 19
SOURCE_IMAGE_ID: NAPP 8404 082
SOURCE_IMAGE_DATE: 1995 09 12
SOURCE_DEM_DATE: 1997 00 00
AGENCY: WESTERN MAPPING CENTER (WMC)
PRODUCER: UNDEFINED
PRODUCTION_SYSTEM: GIS/MAGIC
COMPRESSION: UNDEFINED
STANDARD_VERSION: 1996 12
METADATA_DATE: 2000 05 25
DATA_FILE_SIZE: 44148384
BYTE_COUNT: 5744
