FILENAME: O4511343.NES.47656.tif
QUADRANGLE_NAME: HOMER YOUNGS PEAK
QUADRANT: NE
WEST_LONGITUDE: -113 41 15.00000
EAST_LONGITUDE: -113 37 30.00000
NORTH_LATITUDE: 45 22 30.00000
SOUTH_LATITUDE: 45 18 45.00000
PRODUCTION_DATE: 1995 11 8
RASTER_ORDER: LEFT_RIGHT/TOP_BOTTOM
BAND_ORGANIZATION: SINGLE FILE
BAND_CONTENT: BLACK&WHITE
BAND_CONTENT: UNDEFINED
BAND_CONTENT: UNDEFINED
BITS_PER_PIXEL: 8
SAMPLES_AND_LINES: 5820 7740
HORIZONTAL_DATUM: NAD83
HORIZONTAL_COORDINATE_SYSTEM: UTM
COORDINATE_ZONE: 12
HORIZONTAL_UNITS: METERS
HORIZONTAL_RESOLUTION: 1.00000
SECONDARY_HORIZONTAL_DATUM: NAD27
XY_ORIGIN: 288960.00000 5028450.00000
SECONDARY_XY_ORIGIN: 289024.37900 5028238.94400
NATION: US
STATE: MT
NW_QUAD_CORNER_XY: 289571.03500 5028123.25900
NE_QUAD_CORNER_XY: 294464.69000 5027961.67400
SE_QUAD_CORNERY_XY: 294238.25000 5021018.37600
SW_QUAD_CORNER_XY: 289339.19600 5021179.96500
SECONDARY_NW_QUAD_XY: 289564.77200 5027905.85500
SECONDARY_NE_QUAD_XY: 294458.57200 5027744.26500
SECONDARY_SE_QUAD_XY: 294232.13400 5020801.01700
SECONDARY_SW_QUAD_XY: 289332.93400 5020962.61100
RMSE_XY: 1.90000
IMAGE_SOURCE: BLACK AND WHITE FILM
SOURCE_IMAGE_ID: NAPP 4947 011
SOURCE_IMAGE_DATE: 1993 9 8
SOURCE_DEM_DATE: 1995 11 8
AGENCY: WESTERN MAPPING CENTER (WMC)
PRODUCER: Analytical Surveys
PRODUCTION_SYSTEM: ORBIT OR_RECTIFY V.5.2
COMPRESSION: UNDEFINED
STANDARD_VERSION: 1996 12
METADATA_DATE: 1997 7 10
DATA_FILE_SIZE: 45052620
BYTE_COUNT: 5820
