FILENAME: O4511345.SWS.1076511.tif
QUADRANGLE_NAME: JACKSON
QUADRANT: SW
WEST_LONGITUDE: -113 30 0.00000
EAST_LONGITUDE: -113 26 15.00000
NORTH_LATITUDE: 45 18 45.00000
SOUTH_LATITUDE: 45 15 0.00000
PRODUCTION_DATE: 2000 4 18
RASTER_ORDER: LEFT_RIGHT/TOP_BOTTOM
BAND_ORGANIZATION: SINGLE FILE
BAND_CONTENT: BLACK&WHITE
BAND_CONTENT: UNDEFINED
BAND_CONTENT: UNDEFINED
BITS_PER_PIXEL: 8
SAMPLES_AND_LINES: 5788 7703
HORIZONTAL_DATUM: NAD83
HORIZONTAL_COORDINATE_SYSTEM: UTM
COORDINATE_ZONE: 12
HORIZONTAL_UNITS: METERS
HORIZONTAL_RESOLUTION: 1.00000
SECONDARY_HORIZONTAL_DATUM: NAD27
XY_ORIGIN: 303449.00000 5021007.00000
SECONDARY_XY_ORIGIN: 303513.28000 5020795.93700
NATION: US
NATION: "SCIENCE
STATE: MT
NW_QUAD_CORNER_XY: 304036.36600 5020706.61900
NE_QUAD_CORNER_XY: 308935.42700 5020556.45000
SE_QUAD_CORNERY_XY: 308725.41000 5013613.20300
SW_QUAD_CORNER_XY: 303820.95700 5013763.37500
SECONDARY_NW_QUAD_XY: 304030.54100 5020489.25100
SECONDARY_NE_QUAD_XY: 308929.74800 5020339.07800
SECONDARY_SE_QUAD_XY: 308719.73300 5013395.88300
SECONDARY_SW_QUAD_XY: 303815.13400 5013546.05900
RMSE_XY: 1.30000
IMAGE_SOURCE: BLACK AND WHITE FILM
SOURCE_IMAGE_ID: NAPP 8391 025
SOURCE_IMAGE_DATE: 1995 08 01
SOURCE_IMAGE_ID: NAPP 8391 026
SOURCE_IMAGE_DATE: 1995 08 01
SOURCE_DEM_DATE: 1992 00 00
AGENCY: WESTERN MAPPING CENTER (WMC)
PRODUCER: UNDEFINED
PRODUCTION_SYSTEM: GIS/MAGIC
COMPRESSION: UNDEFINED
STANDARD_VERSION: 1996 12
METADATA_DATE: 2000 05 19
DATA_FILE_SIZE: 44590752
BYTE_COUNT: 5788
