FILENAME: O4511346.NWS.1076549.tif
QUADRANGLE_NAME: BUTCH HILL
QUADRANT: NW
WEST_LONGITUDE: -113 22 30.00000
EAST_LONGITUDE: -113 18 45.00000
NORTH_LATITUDE: 45 22 30.00000
SOUTH_LATITUDE: 45 18 45.00000
PRODUCTION_DATE: 2000 4 24
RASTER_ORDER: LEFT_RIGHT/TOP_BOTTOM
BAND_ORGANIZATION: SINGLE FILE
BAND_CONTENT: BLACK&WHITE
BAND_CONTENT: UNDEFINED
BAND_CONTENT: UNDEFINED
BITS_PER_PIXEL: 8
SAMPLES_AND_LINES: 5772 7695
HORIZONTAL_DATUM: NAD83
HORIZONTAL_COORDINATE_SYSTEM: UTM
COORDINATE_ZONE: 12
HORIZONTAL_UNITS: METERS
HORIZONTAL_RESOLUTION: 1.00000
SECONDARY_HORIZONTAL_DATUM: NAD27
XY_ORIGIN: 313463.00000 5027654.00000
SECONDARY_XY_ORIGIN: 313527.16700 5027442.98700
NATION: US
NATION: "SCIENCE
STATE: MT
NW_QUAD_CORNER_XY: 314039.33900 5027353.40100
NE_QUAD_CORNER_XY: 318933.00900 5027210.84800
SE_QUAD_CORNERY_XY: 318733.55700 5020267.53200
SW_QUAD_CORNER_XY: 313834.49100 5020410.08800
SECONDARY_NW_QUAD_XY: 314033.80500 5027135.97400
SECONDARY_NE_QUAD_XY: 318927.62000 5026993.41700
SECONDARY_SE_QUAD_XY: 318728.16900 5020050.15100
SECONDARY_SW_QUAD_XY: 313828.95800 5020192.71200
RMSE_XY: 1.80000
IMAGE_SOURCE: BLACK AND WHITE FILM
SOURCE_IMAGE_ID: NAPP 8391 097
SOURCE_IMAGE_DATE: 1995 08 01
SOURCE_IMAGE_ID: NAPP 8391 099
SOURCE_IMAGE_DATE: 1995 08 01
SOURCE_IMAGE_ID: NAPP 8391 096
SOURCE_IMAGE_DATE: 1995 08 01
SOURCE_DEM_DATE: 1992 00 00
AGENCY: WESTERN MAPPING CENTER (WMC)
PRODUCER: UNDEFINED
PRODUCTION_SYSTEM: GIS/MAGIC
COMPRESSION: UNDEFINED
STANDARD_VERSION: 1996 12
METADATA_DATE: 2000 05 19
DATA_FILE_SIZE: 44421312
BYTE_COUNT: 5772
