FILENAME: O4511347.NWS.1076593.tif
QUADRANGLE_NAME: TASH PEAK
QUADRANT: NW
WEST_LONGITUDE: -113 15 0.00000
EAST_LONGITUDE: -113 11 15.00000
NORTH_LATITUDE: 45 22 30.00000
SOUTH_LATITUDE: 45 18 45.00000
PRODUCTION_DATE: 2000 5 3
RASTER_ORDER: LEFT_RIGHT/TOP_BOTTOM
BAND_ORGANIZATION: SINGLE FILE
BAND_CONTENT: BLACK&WHITE
BAND_CONTENT: UNDEFINED
BAND_CONTENT: UNDEFINED
BITS_PER_PIXEL: 8
SAMPLES_AND_LINES: 5760 7688
HORIZONTAL_DATUM: NAD83
HORIZONTAL_COORDINATE_SYSTEM: UTM
COORDINATE_ZONE: 12
HORIZONTAL_UNITS: METERS
HORIZONTAL_RESOLUTION: 1.00000
SECONDARY_HORIZONTAL_DATUM: NAD27
XY_ORIGIN: 323262.00000 5027373.00000
SECONDARY_XY_ORIGIN: 323326.06400 5027162.05400
NATION: US
NATION: "SCIENCE
STATE: MT
NW_QUAD_CORNER_XY: 323826.68100 5027072.10100
NE_QUAD_CORNER_XY: 328720.35500 5026937.15900
SE_QUAD_CORNERY_XY: 328531.69500 5019993.83600
SW_QUAD_CORNER_XY: 323632.62500 5020128.78100
SECONDARY_NW_QUAD_XY: 323821.43700 5026854.66500
SECONDARY_NE_QUAD_XY: 328715.25800 5026719.71900
SECONDARY_SE_QUAD_XY: 328526.59900 5019776.44700
SECONDARY_SW_QUAD_XY: 323627.38300 5019911.39600
RMSE_XY: 1.40000
IMAGE_SOURCE: BLACK AND WHITE FILM
SOURCE_IMAGE_ID: NAPP 8393 214
SOURCE_IMAGE_DATE: 1995 08 19
SOURCE_IMAGE_ID: NAPP 8391 136
SOURCE_IMAGE_DATE: 1995 08 01
SOURCE_IMAGE_ID: NAPP 8393 215
SOURCE_IMAGE_DATE: 1995 08 19
SOURCE_IMAGE_ID: NAPP 8393 213
SOURCE_IMAGE_DATE: 1995 08 19
SOURCE_DEM_DATE: 1956 00 00
AGENCY: WESTERN MAPPING CENTER (WMC)
PRODUCER: UNDEFINED
PRODUCTION_SYSTEM: GIS/MAGIC
COMPRESSION: UNDEFINED
STANDARD_VERSION: 1996 12
METADATA_DATE: 2000 05 25
DATA_FILE_SIZE: 44288640
BYTE_COUNT: 5760
