FILENAME: O4511348.SWS.1076663.tif
QUADRANGLE_NAME: POLARIS
QUADRANT: SW
WEST_LONGITUDE: -113 7 30.00000
EAST_LONGITUDE: -113 3 45.00000
NORTH_LATITUDE: 45 18 45.00000
SOUTH_LATITUDE: 45 15 0.00000
PRODUCTION_DATE: 2000 5 10
RASTER_ORDER: LEFT_RIGHT/TOP_BOTTOM
BAND_ORGANIZATION: SINGLE FILE
BAND_CONTENT: BLACK&WHITE
BAND_CONTENT: UNDEFINED
BAND_CONTENT: UNDEFINED
BITS_PER_PIXEL: 8
SAMPLES_AND_LINES: 5754 7680
HORIZONTAL_DATUM: NAD83
HORIZONTAL_COORDINATE_SYSTEM: UTM
COORDINATE_ZONE: 12
HORIZONTAL_UNITS: METERS
HORIZONTAL_RESOLUTION: 1.00000
SECONDARY_HORIZONTAL_DATUM: NAD27
XY_ORIGIN: 332877.00000 5020163.00000
SECONDARY_XY_ORIGIN: 332940.96800 5019952.25900
NATION: US
NATION: "SCIENCE
STATE: MT
NW_QUAD_CORNER_XY: 333430.76800 5019862.69500
NE_QUAD_CORNER_XY: 338329.84200 5019735.35900
SE_QUAD_CORNERY_XY: 338152.16600 5012792.09600
SW_QUAD_CORNER_XY: 333247.70200 5012919.43400
SECONDARY_NW_QUAD_XY: 333425.81700 5019645.30200
SECONDARY_NE_QUAD_XY: 338325.03700 5019517.96200
SECONDARY_SE_QUAD_XY: 338147.36200 5012574.75100
SECONDARY_SW_QUAD_XY: 333242.75300 5012702.09300
RMSE_XY: 1.80000
IMAGE_SOURCE: BLACK AND WHITE FILM
SOURCE_IMAGE_ID: NAPP 8404 075
SOURCE_IMAGE_DATE: 1995 09 12
SOURCE_IMAGE_ID: NAPP 8404 074
SOURCE_IMAGE_DATE: 1995 09 12
SOURCE_DEM_DATE: 1997 00 00
AGENCY: WESTERN MAPPING CENTER (WMC)
PRODUCER: UNDEFINED
PRODUCTION_SYSTEM: GIS/MAGIC
COMPRESSION: UNDEFINED
STANDARD_VERSION: 1996 12
METADATA_DATE: 2000 05 25
DATA_FILE_SIZE: 44196474
BYTE_COUNT: 5754
