FILENAME: O4511348.NES.1076660.tif
QUADRANGLE_NAME: POLARIS
QUADRANT: NE
WEST_LONGITUDE: -113 3 45.00000
EAST_LONGITUDE: -113 0 0.00000
NORTH_LATITUDE: 45 22 30.00000
SOUTH_LATITUDE: 45 18 45.00000
PRODUCTION_DATE: 2000 5 10
RASTER_ORDER: LEFT_RIGHT/TOP_BOTTOM
BAND_ORGANIZATION: SINGLE FILE
BAND_CONTENT: BLACK&WHITE
BAND_CONTENT: UNDEFINED
BAND_CONTENT: UNDEFINED
BITS_PER_PIXEL: 8
SAMPLES_AND_LINES: 5743 7677
HORIZONTAL_DATUM: NAD83
HORIZONTAL_COORDINATE_SYSTEM: UTM
COORDINATE_ZONE: 12
HORIZONTAL_UNITS: METERS
HORIZONTAL_RESOLUTION: 1.00000
SECONDARY_HORIZONTAL_DATUM: NAD27
XY_ORIGIN: 337960.00000 5026979.00000
SECONDARY_XY_ORIGIN: 338023.80100 5026768.23600
NATION: US
NATION: "SCIENCE
STATE: MT
NW_QUAD_CORNER_XY: 338507.71200 5026678.68800
NE_QUAD_CORNER_XY: 343401.39400 5026555.15900
SE_QUAD_CORNERY_XY: 343228.91800 5019611.82700
SW_QUAD_CORNER_XY: 338329.84200 5019735.35900
SECONDARY_NW_QUAD_XY: 338502.90600 5026461.24100
SECONDARY_NE_QUAD_XY: 343396.73300 5026337.70800
SECONDARY_SE_QUAD_XY: 343224.25900 5019394.42700
SECONDARY_SW_QUAD_XY: 338325.03700 5019517.96200
RMSE_XY: 1.60000
IMAGE_SOURCE: BLACK AND WHITE FILM
SOURCE_IMAGE_ID: NAPP 8404 014
SOURCE_IMAGE_DATE: 1995 09 12
SOURCE_IMAGE_ID: NAPP 8404 013
SOURCE_IMAGE_DATE: 1995 09 12
SOURCE_DEM_DATE: 1997 00 00
AGENCY: WESTERN MAPPING CENTER (WMC)
PRODUCER: UNDEFINED
PRODUCTION_SYSTEM: GIS/MAGIC
COMPRESSION: UNDEFINED
STANDARD_VERSION: 1996 12
METADATA_DATE: 2000 05 25
DATA_FILE_SIZE: 44094754
BYTE_COUNT: 5743
