FILENAME: O4511352.NWS.47476.tif
QUADRANGLE_NAME: GOLDSTONE PASS
QUADRANT: NW
WEST_LONGITUDE: -113 37 30.00000
EAST_LONGITUDE: -113 33 45.00000
NORTH_LATITUDE: 45 15 0.00000
SOUTH_LATITUDE: 45 11 15.00000
PRODUCTION_DATE: 1995 11 8
RASTER_ORDER: LEFT_RIGHT/TOP_BOTTOM
BAND_ORGANIZATION: SINGLE FILE
BAND_CONTENT: BLACK&WHITE
BAND_CONTENT: UNDEFINED
BAND_CONTENT: UNDEFINED
BITS_PER_PIXEL: 8
SAMPLES_AND_LINES: 5820 7740
HORIZONTAL_DATUM: NAD83
HORIZONTAL_COORDINATE_SYSTEM: UTM
COORDINATE_ZONE: 12
HORIZONTAL_UNITS: METERS
HORIZONTAL_RESOLUTION: 1.00000
SECONDARY_HORIZONTAL_DATUM: NAD27
XY_ORIGIN: 293400.00000 5014380.00000
SECONDARY_XY_ORIGIN: 293464.21600 5014169.03800
NATION: US
STATE: MT
STATE: ID
NW_QUAD_CORNER_XY: 294012.05600 5014075.13800
NE_QUAD_CORNER_XY: 298916.50600 5013917.35300
SE_QUAD_CORNERY_XY: 298695.94500 5006974.17300
SW_QUAD_CORNER_XY: 293786.10900 5007131.96100
SECONDARY_NW_QUAD_XY: 294005.94200 5013857.83100
SECONDARY_NE_QUAD_XY: 298910.53700 5013700.04100
SECONDARY_SE_QUAD_XY: 298689.97800 5006756.91400
SECONDARY_SW_QUAD_XY: 293779.99600 5006914.70600
RMSE_XY: 3.60000
IMAGE_SOURCE: BLACK AND WHITE FILM
SOURCE_IMAGE_ID: NAPP 4931 201
SOURCE_IMAGE_DATE: 1992 7 31
SOURCE_DEM_DATE: 1995 11 8
AGENCY: WESTERN MAPPING CENTER (WMC)
PRODUCER: Analytical Surveys
PRODUCTION_SYSTEM: ORBIT OR_RECTIFY V.5.2
COMPRESSION: UNDEFINED
STANDARD_VERSION: 1996 12
METADATA_DATE: 1997 7 10
DATA_FILE_SIZE: 45052620
BYTE_COUNT: 5820
