FILENAME: O4511352.NES.47475.tif
QUADRANGLE_NAME: GOLDSTONE PASS
QUADRANT: NE
WEST_LONGITUDE: -113 33 45.00000
EAST_LONGITUDE: -113 30 0.00000
NORTH_LATITUDE: 45 15 0.00000
SOUTH_LATITUDE: 45 11 15.00000
PRODUCTION_DATE: 1995 9 12
RASTER_ORDER: LEFT_RIGHT/TOP_BOTTOM
BAND_ORGANIZATION: SINGLE FILE
BAND_CONTENT: BLACK&WHITE
BAND_CONTENT: UNDEFINED
BAND_CONTENT: UNDEFINED
BITS_PER_PIXEL: 8
SAMPLES_AND_LINES: 5820 7710
HORIZONTAL_DATUM: NAD83
HORIZONTAL_COORDINATE_SYSTEM: UTM
COORDINATE_ZONE: 12
HORIZONTAL_UNITS: METERS
HORIZONTAL_RESOLUTION: 1.00000
SECONDARY_HORIZONTAL_DATUM: NAD27
XY_ORIGIN: 298320.00000 5014230.00000
SECONDARY_XY_ORIGIN: 298384.16300 5014019.03700
NATION: US
STATE: MT
NW_QUAD_CORNER_XY: 298916.50600 5013917.35300
NE_QUAD_CORNER_XY: 303820.95700 5013763.37500
SE_QUAD_CORNERY_XY: 303605.78300 5006820.19300
SW_QUAD_CORNER_XY: 298695.94500 5006974.17300
SECONDARY_NW_QUAD_XY: 298910.53700 5013700.04100
SECONDARY_NE_QUAD_XY: 303815.13400 5013546.05900
SECONDARY_SE_QUAD_XY: 303599.96200 5006602.92900
SECONDARY_SW_QUAD_XY: 298689.97800 5006756.91400
RMSE_XY: 3.20000
IMAGE_SOURCE: BLACK AND WHITE FILM
SOURCE_IMAGE_ID: NAPP 4931 205
SOURCE_IMAGE_DATE: 1992 7 31
SOURCE_DEM_DATE: 1995 9 12
AGENCY: WESTERN MAPPING CENTER (WMC)
PRODUCER: Analytical Surveys
PRODUCTION_SYSTEM: ORBIT OR_RECTIFY V.5.2
COMPRESSION: UNDEFINED
STANDARD_VERSION: 1996 12
METADATA_DATE: 1997 7 10
DATA_FILE_SIZE: 44878020
BYTE_COUNT: 5820
