FILENAME: O4511353.SES.1076514.tif
QUADRANGLE_NAME: SELWAY MOUNTAIN
QUADRANT: SE
WEST_LONGITUDE: -113 26 15.00000
EAST_LONGITUDE: -113 22 30.00000
NORTH_LATITUDE: 45 11 15.00000
SOUTH_LATITUDE: 45 7 30.00000
PRODUCTION_DATE: 2000 4 18
RASTER_ORDER: LEFT_RIGHT/TOP_BOTTOM
BAND_ORGANIZATION: SINGLE FILE
BAND_CONTENT: BLACK&WHITE
BAND_CONTENT: UNDEFINED
BAND_CONTENT: UNDEFINED
BITS_PER_PIXEL: 8
SAMPLES_AND_LINES: 5792 7699
HORIZONTAL_DATUM: NAD83
HORIZONTAL_COORDINATE_SYSTEM: UTM
COORDINATE_ZONE: 12
HORIZONTAL_UNITS: METERS
HORIZONTAL_RESOLUTION: 1.00000
SECONDARY_HORIZONTAL_DATUM: NAD27
XY_ORIGIN: 307935.00000 5006971.00000
SECONDARY_XY_ORIGIN: 307999.22500 5006759.99400
NATION: US
NATION: "SCIENCE
STATE: MT
NW_QUAD_CORNER_XY: 308515.62200 5006670.01900
NE_QUAD_CORNER_XY: 313425.46200 5006523.65200
SE_QUAD_CORNERY_XY: 313221.28300 4999580.52800
SW_QUAD_CORNER_XY: 308306.06300 4999726.89700
SECONDARY_NW_QUAD_XY: 308509.94600 5006452.75100
SECONDARY_NE_QUAD_XY: 313419.93200 5006306.37900
SECONDARY_SE_QUAD_XY: 313215.75400 4999363.30900
SECONDARY_SW_QUAD_XY: 308300.38900 4999509.68200
RMSE_XY: 1.70000
IMAGE_SOURCE: BLACK AND WHITE FILM
SOURCE_IMAGE_ID: NAPP 8391 056
SOURCE_IMAGE_DATE: 1995 08 01
SOURCE_IMAGE_ID: NAPP 8391 055
SOURCE_IMAGE_DATE: 1995 08 01
SOURCE_DEM_DATE: 2000 01 01
AGENCY: WESTERN MAPPING CENTER (WMC)
PRODUCER: UNDEFINED
PRODUCTION_SYSTEM: GIS/MAGIC
COMPRESSION: UNDEFINED
STANDARD_VERSION: 1996 12
METADATA_DATE: 2000 05 19
DATA_FILE_SIZE: 44598400
BYTE_COUNT: 5792
