FILENAME: O4511353.NES.1076512.tif
QUADRANGLE_NAME: SELWAY MOUNTAIN
QUADRANT: NE
WEST_LONGITUDE: -113 26 15.00000
EAST_LONGITUDE: -113 22 30.00000
NORTH_LATITUDE: 45 15 0.00000
SOUTH_LATITUDE: 45 11 15.00000
PRODUCTION_DATE: 2000 4 18
RASTER_ORDER: LEFT_RIGHT/TOP_BOTTOM
BAND_ORGANIZATION: SINGLE FILE
BAND_CONTENT: BLACK&WHITE
BAND_CONTENT: UNDEFINED
BAND_CONTENT: UNDEFINED
BITS_PER_PIXEL: 8
SAMPLES_AND_LINES: 5787 7699
HORIZONTAL_DATUM: NAD83
HORIZONTAL_COORDINATE_SYSTEM: UTM
COORDINATE_ZONE: 12
HORIZONTAL_UNITS: METERS
HORIZONTAL_RESOLUTION: 1.00000
SECONDARY_HORIZONTAL_DATUM: NAD27
XY_ORIGIN: 308144.00000 5013914.00000
SECONDARY_XY_ORIGIN: 308208.26700 5013703.01500
NATION: US
NATION: "SCIENCE
STATE: MT
NW_QUAD_CORNER_XY: 308725.41000 5013613.20300
NE_QUAD_CORNER_XY: 313629.86500 5013466.83800
SE_QUAD_CORNERY_XY: 313425.46200 5006523.65200
SW_QUAD_CORNER_XY: 308515.62200 5006670.01900
SECONDARY_NW_QUAD_XY: 308719.73300 5013395.88300
SECONDARY_NE_QUAD_XY: 313624.33300 5013249.51300
SECONDARY_SE_QUAD_XY: 313419.93200 5006306.37900
SECONDARY_SW_QUAD_XY: 308509.94600 5006452.75100
RMSE_XY: 1.60000
IMAGE_SOURCE: BLACK AND WHITE FILM
SOURCE_IMAGE_ID: NAPP 8391 058
SOURCE_IMAGE_DATE: 1995 08 01
SOURCE_IMAGE_ID: NAPP 8391 027
SOURCE_IMAGE_DATE: 1995 08 01
SOURCE_IMAGE_ID: NAPP 8391 059
SOURCE_IMAGE_DATE: 1995 08 01
SOURCE_DEM_DATE: 2000 01 01
AGENCY: WESTERN MAPPING CENTER (WMC)
PRODUCER: UNDEFINED
PRODUCTION_SYSTEM: GIS/MAGIC
COMPRESSION: UNDEFINED
STANDARD_VERSION: 1996 12
METADATA_DATE: 2000 05 19
DATA_FILE_SIZE: 44559900
BYTE_COUNT: 5787
