FILENAME: O4511354.SES.1076534.tif
QUADRANGLE_NAME: PETERSON LAKE
QUADRANT: SE
WEST_LONGITUDE: -113 18 45.00000
EAST_LONGITUDE: -113 15 0.00000
NORTH_LATITUDE: 45 11 15.00000
SOUTH_LATITUDE: 45 7 30.00000
PRODUCTION_DATE: 2000 4 25
RASTER_ORDER: LEFT_RIGHT/TOP_BOTTOM
BAND_ORGANIZATION: SINGLE FILE
BAND_CONTENT: BLACK&WHITE
BAND_CONTENT: UNDEFINED
BAND_CONTENT: UNDEFINED
BITS_PER_PIXEL: 8
SAMPLES_AND_LINES: 5781 7692
HORIZONTAL_DATUM: NAD83
HORIZONTAL_COORDINATE_SYSTEM: UTM
COORDINATE_ZONE: 12
HORIZONTAL_UNITS: METERS
HORIZONTAL_RESOLUTION: 1.00000
SECONDARY_HORIZONTAL_DATUM: NAD27
XY_ORIGIN: 317766.00000 5006682.00000
SECONDARY_XY_ORIGIN: 317830.15200 5006471.11600
NATION: US
NATION: "SCIENCE
STATE: MT
NW_QUAD_CORNER_XY: 318335.30400 5006381.09000
NE_QUAD_CORNER_XY: 323245.14700 5006242.33500
SE_QUAD_CORNERY_XY: 323051.72500 4999299.20900
SW_QUAD_CORNER_XY: 318136.50400 4999437.96600
SECONDARY_NW_QUAD_XY: 318329.91900 5006163.81400
SECONDARY_NE_QUAD_XY: 323239.90800 5006025.05400
SECONDARY_SE_QUAD_XY: 323046.48800 4999081.98100
SECONDARY_SW_QUAD_XY: 318131.12100 4999220.74200
RMSE_XY: 1.60000
IMAGE_SOURCE: BLACK AND WHITE FILM
SOURCE_IMAGE_ID: NAPP 8391 130
SOURCE_IMAGE_DATE: 1995 08 01
SOURCE_IMAGE_ID: NAPP 8391 129
SOURCE_IMAGE_DATE: 1995 08 01
SOURCE_IMAGE_ID: NAPP 8391 131
SOURCE_IMAGE_DATE: 1995 08 01
SOURCE_DEM_DATE: 2000 01 01
AGENCY: WESTERN MAPPING CENTER (WMC)
PRODUCER: UNDEFINED
PRODUCTION_SYSTEM: GIS/MAGIC
COMPRESSION: UNDEFINED
STANDARD_VERSION: 1996 12
METADATA_DATE: 2000 05 19
DATA_FILE_SIZE: 44473233
BYTE_COUNT: 5781
