FILENAME: O4511355.SWS.1076599.tif
QUADRANGLE_NAME: BRAYS CANYON
QUADRANT: SW
WEST_LONGITUDE: -113 15 0.00000
EAST_LONGITUDE: -113 11 15.00000
NORTH_LATITUDE: 45 11 15.00000
SOUTH_LATITUDE: 45 7 30.00000
PRODUCTION_DATE: 2000 5 2
RASTER_ORDER: LEFT_RIGHT/TOP_BOTTOM
BAND_ORGANIZATION: SINGLE FILE
BAND_CONTENT: BLACK&WHITE
BAND_CONTENT: UNDEFINED
BAND_CONTENT: UNDEFINED
BITS_PER_PIXEL: 8
SAMPLES_AND_LINES: 5775 7688
HORIZONTAL_DATUM: NAD83
HORIZONTAL_COORDINATE_SYSTEM: UTM
COORDINATE_ZONE: 12
HORIZONTAL_UNITS: METERS
HORIZONTAL_RESOLUTION: 1.00000
SECONDARY_HORIZONTAL_DATUM: NAD27
XY_ORIGIN: 322681.00000 5006543.00000
SECONDARY_XY_ORIGIN: 322745.11300 5006332.17100
NATION: US
NATION: "SCIENCE
STATE: MT
NW_QUAD_CORNER_XY: 323245.14700 5006242.33500
NE_QUAD_CORNER_XY: 328154.99100 5006107.38500
SE_QUAD_CORNERY_XY: 327966.94700 4999164.25700
SW_QUAD_CORNER_XY: 323051.72500 4999299.20900
SECONDARY_NW_QUAD_XY: 323239.90800 5006025.05400
SECONDARY_NE_QUAD_XY: 328149.89800 5005890.10000
SECONDARY_SE_QUAD_XY: 327961.85500 4998947.02600
SECONDARY_SW_QUAD_XY: 323046.48800 4999081.98100
RMSE_XY: 2.00000
IMAGE_SOURCE: BLACK AND WHITE FILM
SOURCE_IMAGE_ID: NAPP 8393 220
SOURCE_IMAGE_DATE: 1995 08 19
SOURCE_IMAGE_ID: NAPP 8391 129
SOURCE_IMAGE_DATE: 1995 08 01
SOURCE_IMAGE_ID: NAPP 8391 130
SOURCE_IMAGE_DATE: 1995 08 01
SOURCE_IMAGE_ID: NAPP 8393 221
SOURCE_IMAGE_DATE: 1995 08 19
SOURCE_IMAGE_ID: NAPP 8393 219
SOURCE_IMAGE_DATE: 1995 08 19
SOURCE_DEM_DATE: 1997 00 00
AGENCY: WESTERN MAPPING CENTER (WMC)
PRODUCER: UNDEFINED
PRODUCTION_SYSTEM: GIS/MAGIC
COMPRESSION: UNDEFINED
STANDARD_VERSION: 1996 12
METADATA_DATE: 2000 05 25
DATA_FILE_SIZE: 44403975
BYTE_COUNT: 5775
