FILENAME: O4511355.NWS.1076597.tif
QUADRANGLE_NAME: BRAYS CANYON
QUADRANT: NW
WEST_LONGITUDE: -113 15 0.00000
EAST_LONGITUDE: -113 11 15.00000
NORTH_LATITUDE: 45 15 0.00000
SOUTH_LATITUDE: 45 11 15.00000
PRODUCTION_DATE: 2000 5 3
RASTER_ORDER: LEFT_RIGHT/TOP_BOTTOM
BAND_ORGANIZATION: SINGLE FILE
BAND_CONTENT: BLACK&WHITE
BAND_CONTENT: UNDEFINED
BAND_CONTENT: UNDEFINED
BITS_PER_PIXEL: 8
SAMPLES_AND_LINES: 5771 7688
HORIZONTAL_DATUM: NAD83
HORIZONTAL_COORDINATE_SYSTEM: UTM
COORDINATE_ZONE: 12
HORIZONTAL_UNITS: METERS
HORIZONTAL_RESOLUTION: 1.00000
SECONDARY_HORIZONTAL_DATUM: NAD27
XY_ORIGIN: 322874.00000 5013486.00000
SECONDARY_XY_ORIGIN: 322938.18600 5013275.16300
NATION: US
NATION: "SCIENCE
STATE: MT
NW_QUAD_CORNER_XY: 323438.78000 5013185.52600
NE_QUAD_CORNER_XY: 328343.24100 5013050.57800
SE_QUAD_CORNERY_XY: 328154.99100 5006107.38500
SW_QUAD_CORNER_XY: 323245.14700 5006242.33500
SECONDARY_NW_QUAD_XY: 323433.54000 5012968.19300
SECONDARY_NE_QUAD_XY: 328338.14600 5012833.24000
SECONDARY_SE_QUAD_XY: 328149.89800 5005890.10000
SECONDARY_SW_QUAD_XY: 323239.90800 5006025.05400
RMSE_XY: 2.90000
IMAGE_SOURCE: BLACK AND WHITE FILM
SOURCE_IMAGE_ID: NAPP 8393 218
SOURCE_IMAGE_DATE: 1995 08 19
SOURCE_IMAGE_ID: NAPP 8393 219
SOURCE_IMAGE_DATE: 1995 08 19
SOURCE_DEM_DATE: 1997 00 00
AGENCY: WESTERN MAPPING CENTER (WMC)
PRODUCER: UNDEFINED
PRODUCTION_SYSTEM: GIS/MAGIC
COMPRESSION: UNDEFINED
STANDARD_VERSION: 1996 12
METADATA_DATE: 2000 05 25
DATA_FILE_SIZE: 44373219
BYTE_COUNT: 5771
