FILENAME: O4511356.NES.1076632.tif
QUADRANGLE_NAME: MILL POINT
QUADRANT: NE
WEST_LONGITUDE: -113 3 45.00000
EAST_LONGITUDE: -113 0 0.00000
NORTH_LATITUDE: 45 15 0.00000
SOUTH_LATITUDE: 45 11 15.00000
PRODUCTION_DATE: 2000 5 10
RASTER_ORDER: LEFT_RIGHT/TOP_BOTTOM
BAND_ORGANIZATION: SINGLE FILE
BAND_CONTENT: BLACK&WHITE
BAND_CONTENT: UNDEFINED
BAND_CONTENT: UNDEFINED
BITS_PER_PIXEL: 8
SAMPLES_AND_LINES: 5754 7677
HORIZONTAL_DATUM: NAD83
HORIZONTAL_COORDINATE_SYSTEM: UTM
COORDINATE_ZONE: 12
HORIZONTAL_UNITS: METERS
HORIZONTAL_RESOLUTION: 1.00000
SECONDARY_HORIZONTAL_DATUM: NAD27
XY_ORIGIN: 337604.00000 5013093.00000
SECONDARY_XY_ORIGIN: 337667.99100 5012882.43800
NATION: US
NATION: "SCIENCE
STATE: MT
NW_QUAD_CORNER_XY: 338152.16600 5012792.09600
NE_QUAD_CORNER_XY: 343056.63000 5012668.56200
SE_QUAD_CORNERY_XY: 342884.53000 5005725.36300
SW_QUAD_CORNER_XY: 337974.68300 5005848.89900
SECONDARY_NW_QUAD_XY: 338147.36200 5012574.75100
SECONDARY_NE_QUAD_XY: 343051.97200 5012451.21300
SECONDARY_SE_QUAD_XY: 342879.87300 5005508.06700
SECONDARY_SW_QUAD_XY: 337969.88000 5005631.60700
RMSE_XY: 1.90000
IMAGE_SOURCE: BLACK AND WHITE FILM
SOURCE_IMAGE_ID: NAPP 8404 018
SOURCE_IMAGE_DATE: 1995 09 12
SOURCE_DEM_DATE: 1956 00 00
AGENCY: WESTERN MAPPING CENTER (WMC)
PRODUCER: UNDEFINED
PRODUCTION_SYSTEM: GIS/MAGIC
COMPRESSION: UNDEFINED
STANDARD_VERSION: 1996 12
METADATA_DATE: 2000 05 25
DATA_FILE_SIZE: 44179212
BYTE_COUNT: 5754
