FILENAME: O4511362.SES.1076538.tif
QUADRANGLE_NAME: COYOTE CREEK
QUADRANT: SE
WEST_LONGITUDE: -113 18 45.00000
EAST_LONGITUDE: -113 15 0.00000
NORTH_LATITUDE: 45 3 45.00000
SOUTH_LATITUDE: 45 0 0.00000
PRODUCTION_DATE: 2000 4 25
RASTER_ORDER: LEFT_RIGHT/TOP_BOTTOM
BAND_ORGANIZATION: SINGLE FILE
BAND_CONTENT: BLACK&WHITE
BAND_CONTENT: UNDEFINED
BAND_CONTENT: UNDEFINED
BITS_PER_PIXEL: 8
SAMPLES_AND_LINES: 5791 7691
HORIZONTAL_DATUM: NAD83
HORIZONTAL_COORDINATE_SYSTEM: UTM
COORDINATE_ZONE: 12
HORIZONTAL_UNITS: METERS
HORIZONTAL_RESOLUTION: 1.00000
SECONDARY_HORIZONTAL_DATUM: NAD27
XY_ORIGIN: 317369.00000 4992795.00000
SECONDARY_XY_ORIGIN: 317433.02800 4992584.11600
NATION: US
NATION: "SCIENCE
STATE: MT
NW_QUAD_CORNER_XY: 317937.92100 4992494.90500
NE_QUAD_CORNER_XY: 322858.51500 4992356.14700
SE_QUAD_CORNERY_XY: 322665.51700 4985413.15000
SW_QUAD_CORNER_XY: 317739.55600 4985551.90800
SECONDARY_NW_QUAD_XY: 317932.53900 4992277.73600
SECONDARY_NE_QUAD_XY: 322853.27900 4992138.97400
SECONDARY_SE_QUAD_XY: 322660.28200 4985196.03200
SECONDARY_SW_QUAD_XY: 317734.17600 4985334.79400
RMSE_XY: 0.90000
IMAGE_SOURCE: BLACK AND WHITE FILM
SOURCE_IMAGE_ID: NAPP 8391 126
SOURCE_IMAGE_DATE: 1995 08 01
SOURCE_DEM_DATE: 2000 01 01
AGENCY: WESTERN MAPPING CENTER (WMC)
PRODUCER: UNDEFINED
PRODUCTION_SYSTEM: GIS/MAGIC
COMPRESSION: UNDEFINED
STANDARD_VERSION: 1996 12
METADATA_DATE: 2000 05 19
DATA_FILE_SIZE: 44544372
BYTE_COUNT: 5791
