FILENAME: O4511362.NES.1076536.tif
QUADRANGLE_NAME: COYOTE CREEK
QUADRANT: NE
WEST_LONGITUDE: -113 18 45.00000
EAST_LONGITUDE: -113 15 0.00000
NORTH_LATITUDE: 45 7 30.00000
SOUTH_LATITUDE: 45 3 45.00000
PRODUCTION_DATE: 2000 4 25
RASTER_ORDER: LEFT_RIGHT/TOP_BOTTOM
BAND_ORGANIZATION: SINGLE FILE
BAND_CONTENT: BLACK&WHITE
BAND_CONTENT: UNDEFINED
BAND_CONTENT: UNDEFINED
BITS_PER_PIXEL: 8
SAMPLES_AND_LINES: 5786 7691
HORIZONTAL_DATUM: NAD83
HORIZONTAL_COORDINATE_SYSTEM: UTM
COORDINATE_ZONE: 12
HORIZONTAL_UNITS: METERS
HORIZONTAL_RESOLUTION: 1.00000
SECONDARY_HORIZONTAL_DATUM: NAD27
XY_ORIGIN: 317567.00000 4999738.00000
SECONDARY_XY_ORIGIN: 317631.09000 4999527.11500
NATION: US
NATION: "SCIENCE
STATE: MT
NW_QUAD_CORNER_XY: 318136.50400 4999437.96600
NE_QUAD_CORNER_XY: 323051.72500 4999299.20900
SE_QUAD_CORNERY_XY: 322858.51500 4992356.14700
SW_QUAD_CORNER_XY: 317937.92100 4992494.90500
SECONDARY_NW_QUAD_XY: 318131.12100 4999220.74200
SECONDARY_NE_QUAD_XY: 323046.48800 4999081.98100
SECONDARY_SE_QUAD_XY: 322853.27900 4992138.97400
SECONDARY_SW_QUAD_XY: 317932.53900 4992277.73600
RMSE_XY: 2.00000
IMAGE_SOURCE: BLACK AND WHITE FILM
SOURCE_IMAGE_ID: NAPP 8391 128
SOURCE_IMAGE_DATE: 1995 08 01
SOURCE_IMAGE_ID: NAPP 8391 129
SOURCE_IMAGE_DATE: 1995 08 01
SOURCE_DEM_DATE: 2000 01 01
AGENCY: WESTERN MAPPING CENTER (WMC)
PRODUCER: UNDEFINED
PRODUCTION_SYSTEM: GIS/MAGIC
COMPRESSION: UNDEFINED
STANDARD_VERSION: 1996 12
METADATA_DATE: 2000 05 19
DATA_FILE_SIZE: 44505912
BYTE_COUNT: 5786
