FILENAME: O4511364.NWS.1076637.tif
QUADRANGLE_NAME: GRANT
QUADRANT: NW
WEST_LONGITUDE: -113 7 30.00000
EAST_LONGITUDE: -113 3 45.00000
NORTH_LATITUDE: 45 7 30.00000
SOUTH_LATITUDE: 45 3 45.00000
PRODUCTION_DATE: 2000 5 10
RASTER_ORDER: LEFT_RIGHT/TOP_BOTTOM
BAND_ORGANIZATION: SINGLE FILE
BAND_CONTENT: BLACK&WHITE
BAND_CONTENT: UNDEFINED
BAND_CONTENT: UNDEFINED
BITS_PER_PIXEL: 8
SAMPLES_AND_LINES: 5770 7681
HORIZONTAL_DATUM: NAD83
HORIZONTAL_COORDINATE_SYSTEM: UTM
COORDINATE_ZONE: 12
HORIZONTAL_UNITS: METERS
HORIZONTAL_RESOLUTION: 1.00000
SECONDARY_HORIZONTAL_DATUM: NAD27
XY_ORIGIN: 332329.00000 4999334.00000
SECONDARY_XY_ORIGIN: 332392.92200 4999123.41700
NATION: US
NATION: "SCIENCE
STATE: MT
NW_QUAD_CORNER_XY: 332882.17000 4999033.11100
NE_QUAD_CORNER_XY: 337797.39400 4998905.76900
SE_QUAD_CORNERY_XY: 337620.29900 4991962.70600
SW_QUAD_CORNER_XY: 332699.70400 4992090.04800
SECONDARY_NW_QUAD_XY: 332877.22400 4998815.87600
SECONDARY_NE_QUAD_XY: 337792.59300 4998688.53000
SECONDARY_SE_QUAD_XY: 337615.50000 4991745.52100
SECONDARY_SW_QUAD_XY: 332694.75900 4991872.86700
RMSE_XY: 1.10000
IMAGE_SOURCE: BLACK AND WHITE FILM
SOURCE_IMAGE_ID: NAPP 8404 069
SOURCE_IMAGE_DATE: 1995 09 12
SOURCE_IMAGE_ID: NAPP 8404 070
SOURCE_IMAGE_DATE: 1995 09 12
SOURCE_DEM_DATE: 1956 00 00
AGENCY: WESTERN MAPPING CENTER (WMC)
PRODUCER: UNDEFINED
PRODUCTION_SYSTEM: GIS/MAGIC
COMPRESSION: UNDEFINED
STANDARD_VERSION: 1996 12
METADATA_DATE: 2000 05 25
DATA_FILE_SIZE: 44325140
BYTE_COUNT: 5770
