FILENAME: O4511201.NWS.1076773.tif
QUADRANGLE_NAME: DICKIE PEAK
QUADRANT: NW
WEST_LONGITUDE: -113 0 0.00000
EAST_LONGITUDE: -112 56 15.00000
NORTH_LATITUDE: 46 0 0.00000
SOUTH_LATITUDE: 45 56 15.00000
PRODUCTION_DATE: 2000 4 4
RASTER_ORDER: LEFT_RIGHT/TOP_BOTTOM
BAND_ORGANIZATION: SINGLE FILE
BAND_CONTENT: BLACK&WHITE
BAND_CONTENT: UNDEFINED
BAND_CONTENT: UNDEFINED
BITS_PER_PIXEL: 8
SAMPLES_AND_LINES: 5684 7674
HORIZONTAL_DATUM: NAD83
HORIZONTAL_COORDINATE_SYSTEM: UTM
COORDINATE_ZONE: 12
HORIZONTAL_UNITS: METERS
HORIZONTAL_RESOLUTION: 1.00000
SECONDARY_HORIZONTAL_DATUM: NAD27
XY_ORIGIN: 344593.00000 5096293.00000
SECONDARY_XY_ORIGIN: 344656.41100 5096081.72700
NATION: US
NATION: "SCIENCE
STATE: MT
NW_QUAD_CORNER_XY: 345136.42700 5095992.17100
NE_QUAD_CORNER_XY: 349975.85000 5095872.50500
SE_QUAD_CORNERY_XY: 349806.96100 5088928.49400
SW_QUAD_CORNER_XY: 344962.08600 5089048.16800
SECONDARY_NW_QUAD_XY: 345131.75400 5095774.25800
SECONDARY_NE_QUAD_XY: 349971.32400 5095654.58900
SECONDARY_SE_QUAD_XY: 349802.43600 5088710.62000
SECONDARY_SW_QUAD_XY: 344957.41400 5088830.29700
RMSE_XY: 2.10000
IMAGE_SOURCE: BLACK AND WHITE FILM
SOURCE_IMAGE_ID: NAPP 9485 113
SOURCE_IMAGE_DATE: 1995 08 20
SOURCE_IMAGE_ID: NAPP 9485 112
SOURCE_IMAGE_DATE: 1995 08 20
SOURCE_DEM_DATE: 1956 00 00
AGENCY: WESTERN MAPPING CENTER (WMC)
PRODUCER: UNDEFINED
PRODUCTION_SYSTEM: GIS/MAGIC
COMPRESSION: UNDEFINED
STANDARD_VERSION: 1996 12
METADATA_DATE: 2000 05 29
DATA_FILE_SIZE: 43624700
BYTE_COUNT: 5684
