FILENAME: O4511204.SES.1076822.tif
QUADRANGLE_NAME: BUTTE SOUTH
QUADRANT: SE
WEST_LONGITUDE: -112 33 45.00000
EAST_LONGITUDE: -112 30 0.00000
NORTH_LATITUDE: 45 56 15.00000
SOUTH_LATITUDE: 45 52 30.00000
PRODUCTION_DATE: 2000 3 22
RASTER_ORDER: LEFT_RIGHT/TOP_BOTTOM
BAND_ORGANIZATION: SINGLE FILE
BAND_CONTENT: BLACK&WHITE
BAND_CONTENT: UNDEFINED
BAND_CONTENT: UNDEFINED
BITS_PER_PIXEL: 8
SAMPLES_AND_LINES: 5651 7647
HORIZONTAL_DATUM: NAD83
HORIZONTAL_COORDINATE_SYSTEM: UTM
COORDINATE_ZONE: 12
HORIZONTAL_UNITS: METERS
HORIZONTAL_RESOLUTION: 1.00000
SECONDARY_HORIZONTAL_DATUM: NAD27
XY_ORIGIN: 378372.00000 5088591.00000
SECONDARY_XY_ORIGIN: 378434.88000 5088379.99600
NATION: US
NATION: "SCIENCE
STATE: MT
NW_QUAD_CORNER_XY: 378876.32800 5088290.28300
NE_QUAD_CORNER_XY: 383721.23900 5088197.21700
SE_QUAD_CORNERY_XY: 383590.64500 5081253.22500
SW_QUAD_CORNER_XY: 378740.29000 5081346.29700
SECONDARY_NW_QUAD_XY: 378872.67900 5088072.39000
SECONDARY_NE_QUAD_XY: 383717.73600 5087979.32100
SECONDARY_SE_QUAD_XY: 383587.14300 5081035.37200
SECONDARY_SW_QUAD_XY: 378736.64100 5081128.44700
RMSE_XY: 2.10000
IMAGE_SOURCE: BLACK AND WHITE FILM
SOURCE_IMAGE_ID: NAPP 8382 165
SOURCE_IMAGE_DATE: 1995 08 01
SOURCE_IMAGE_ID: NAPP 8382 164
SOURCE_IMAGE_DATE: 1995 08 01
SOURCE_IMAGE_ID: NAPP 8382 166
SOURCE_IMAGE_DATE: 1995 08 01
SOURCE_DEM_DATE: 1956 00 00
AGENCY: WESTERN MAPPING CENTER (WMC)
PRODUCER: UNDEFINED
PRODUCTION_SYSTEM: GIS/MAGIC
COMPRESSION: UNDEFINED
STANDARD_VERSION: 1996 12
METADATA_DATE: 2000 05 29
DATA_FILE_SIZE: 43218848
BYTE_COUNT: 5651
