FILENAME: O4511205.SES.1076834.tif
QUADRANGLE_NAME: HOMESTAKE
QUADRANT: SE
WEST_LONGITUDE: -112 26 15.00000
EAST_LONGITUDE: -112 22 30.00000
NORTH_LATITUDE: 45 56 15.00000
SOUTH_LATITUDE: 45 52 30.00000
PRODUCTION_DATE: 2000 3 22
RASTER_ORDER: LEFT_RIGHT/TOP_BOTTOM
BAND_ORGANIZATION: SINGLE FILE
BAND_CONTENT: BLACK&WHITE
BAND_CONTENT: UNDEFINED
BAND_CONTENT: UNDEFINED
BITS_PER_PIXEL: 8
SAMPLES_AND_LINES: 5639 7639
HORIZONTAL_DATUM: NAD83
HORIZONTAL_COORDINATE_SYSTEM: UTM
COORDINATE_ZONE: 12
HORIZONTAL_UNITS: METERS
HORIZONTAL_RESOLUTION: 1.00000
SECONDARY_HORIZONTAL_DATUM: NAD27
XY_ORIGIN: 388074.00000 5088408.00000
SECONDARY_XY_ORIGIN: 388136.60600 5088197.07000
NATION: US
NATION: "SCIENCE
STATE: MT
NW_QUAD_CORNER_XY: 388566.15500 5088107.95200
NE_QUAD_CORNER_XY: 393411.07500 5088022.48700
SE_QUAD_CORNERY_XY: 393291.36800 5081078.48300
SW_QUAD_CORNER_XY: 388441.00500 5081163.95400
SECONDARY_NW_QUAD_XY: 388562.79800 5087890.05300
SECONDARY_NE_QUAD_XY: 393407.86400 5087804.58500
SECONDARY_SE_QUAD_XY: 393288.15700 5080860.62500
SECONDARY_SW_QUAD_XY: 388437.64800 5080946.09800
RMSE_XY: 1.60000
IMAGE_SOURCE: BLACK AND WHITE FILM
SOURCE_IMAGE_ID: NAPP 9486 026
SOURCE_IMAGE_DATE: 1995 08 20
SOURCE_IMAGE_ID: NAPP 8382 179
SOURCE_IMAGE_DATE: 1995 08 01
SOURCE_IMAGE_ID: NAPP 9486 025
SOURCE_IMAGE_DATE: 1995 08 20
SOURCE_IMAGE_ID: NAPP 9486 027
SOURCE_IMAGE_DATE: 1995 08 20
SOURCE_IMAGE_ID: NAPP 9484 020
SOURCE_IMAGE_DATE: 1995 08 14
SOURCE_DEM_DATE: 1960 00 00
AGENCY: WESTERN MAPPING CENTER (WMC)
PRODUCER: UNDEFINED
PRODUCTION_SYSTEM: GIS/MAGIC
COMPRESSION: UNDEFINED
STANDARD_VERSION: 1996 12
METADATA_DATE: 2000 05 29
DATA_FILE_SIZE: 43081960
BYTE_COUNT: 5639
