FILENAME: O4511206.SES.1076926.tif
QUADRANGLE_NAME: DELMOE LAKE
QUADRANT: SE
WEST_LONGITUDE: -112 18 45.00000
EAST_LONGITUDE: -112 15 0.00000
NORTH_LATITUDE: 45 56 15.00000
SOUTH_LATITUDE: 45 52 30.00000
PRODUCTION_DATE: 2000 5 29
RASTER_ORDER: LEFT_RIGHT/TOP_BOTTOM
BAND_ORGANIZATION: SINGLE FILE
BAND_CONTENT: BLACK&WHITE
BAND_CONTENT: UNDEFINED
BAND_CONTENT: UNDEFINED
BITS_PER_PIXEL: 8
SAMPLES_AND_LINES: 5627 7632
HORIZONTAL_DATUM: NAD83
HORIZONTAL_COORDINATE_SYSTEM: UTM
COORDINATE_ZONE: 12
HORIZONTAL_UNITS: METERS
HORIZONTAL_RESOLUTION: 1.00000
SECONDARY_HORIZONTAL_DATUM: NAD27
XY_ORIGIN: 397775.00000 5088241.00000
SECONDARY_XY_ORIGIN: 397837.24300 5088030.17200
NATION: US
NATION: "SCIENCE
STATE: MT
NW_QUAD_CORNER_XY: 398255.99900 5087940.82100
NE_QUAD_CORNER_XY: 403100.92700 5087862.95500
SE_QUAD_CORNERY_XY: 402992.10600 5080918.94100
SW_QUAD_CORNER_XY: 398141.73500 5080996.81200
SECONDARY_NW_QUAD_XY: 398252.93400 5087722.91700
SECONDARY_NE_QUAD_XY: 403098.00800 5087645.04900
SECONDARY_SE_QUAD_XY: 402989.18700 5080701.07800
SECONDARY_SW_QUAD_XY: 398138.67000 5080778.95100
RMSE_XY: 1.60000
IMAGE_SOURCE: BLACK AND WHITE FILM
SOURCE_IMAGE_ID: NAPP 9484 119
SOURCE_IMAGE_DATE: 1995 08 14
SOURCE_IMAGE_ID: NAPP 9484 120
SOURCE_IMAGE_DATE: 1995 08 14
SOURCE_DEM_DATE: 1960 00 00
AGENCY: WESTERN MAPPING CENTER (WMC)
PRODUCER: UNDEFINED
PRODUCTION_SYSTEM: GIS/MAGIC
COMPRESSION: UNDEFINED
STANDARD_VERSION: 1996 12
METADATA_DATE: 2000 05 29
DATA_FILE_SIZE: 42950891
BYTE_COUNT: 5627
